{"text_format":"1","workbook":"xlsx","n_sheets":7,"sheets":["A. Identificação","B. Dados de entrada","C. Mem_calculo","D. Capital","E. Fluxo de caixa","F. Resumo dos custos","Aux2"],"not_rendered":{"charts":0,"images":0,"macros":1,"external_links":0,"defined_names":16,"comments":0,"pivot_tables":0},"unopened":[],"bounds":{"document_bytes":16777216,"sheet_cells":100000,"rows_first":2000,"rows_last":500,"rows_between":2000,"halvings":0,"cell_chars":16384,"cell_head_chars":4096},"cells_cut":0,"cells_raw":0,"read":"whole","date_system":"1900"}

{"sheet":"A. Identificação","index":0,"n_rows":19,"n_cols":1,"rows_kept":19,"cut":false,"hidden":false,"merged":[[14,0,14,1],[14,2,14,7],[16,2,16,7],[18,2,18,7],[8,2,8,7],[10,2,10,7],[8,0,8,1],[10,0,10,1],[12,2,12,7]]}
[]
["Município de Extrema (MG)"]
["Prefeitura Municipal de Extrema"]
["Concessão do Sistema de Transporte Público Coletivo de Extrema - STPC-Extrema"]
["Proposta Comercial"]
[]
["Proponente:"]
[]
["Razão Social:"]
[]
["CNPJ:"]
[]
["Nome do responsável legal:"]
[]
["CPF"]
[]
["Data base dos preços:"]
[]
["Data de apresentação da proposta:"]

{"sheet":"B. Dados de entrada","index":1,"n_rows":172,"n_cols":5,"rows_kept":172,"cut":false,"hidden":false,"merged":[[136,0,136,3],[144,0,144,3],[153,0,153,3],[156,0,156,3]]}
[{"$f":"'A. Identificação'!A2&\" - \"&'A. Identificação'!A3","v":"Município de Extrema (MG) - Prefeitura Municipal de Extrema"}]
[{"$f":"'A. Identificação'!A4","v":"Concessão do Sistema de Transporte Público Coletivo de Extrema - STPC-Extrema"}]
[{"$f":"\"Proponente: \"&'A. Identificação'!C9&\" - CNPJ: \"&'A. Identificação'!C11","v":"Proponente:  - CNPJ: "}]
[{"$f":"'A. Identificação'!$A$5","v":"Proposta Comercial"},null,null,"Apresentação:",{"$f":"'A. Identificação'!C19","v":"00:00:00"}]
[]
["1 - Dados de entrada"]
[]
["1.1. Preços de insumos, salários e custos unitários em geral",null,null,"Data base:",{"$f":"'A. Identificação'!C17","v":"00:00:00"}]
["Item","Unidade","Geral","Midiônibus I","Midiônibus II"]
[]
["Diesel, materiais de rodagem e ARLA"]
["Óleo Diesel","R$/l"]
["Pneu novo radial","R$"]
["Serviços de recapagens","R$"]
["ARLA 32","R$/l"]
[]
["Veículo"]
["Veículo com pneus com ar-condicionado","R$ / unidade"]
["Veículo sem pneus com ar-condicionado","R$ / unidade",null,{"$f":"D18-6*D13","v":0},{"$f":"E18-6*E13","v":0}]
[]
["Salários, benefícios e pró-labore"]
["Salário motorista","R$ / emp. / mês"]
["Salário médio func. do setor de tráfego","R$ / emp. / mês"]
["Salário médio func. do setor de manutenção","R$ / emp. / mês"]
["Salário médio func. do setor de administração","R$ / emp. / mês"]
["Remuneração de diretor","R$ / emp. / mês"]
["Benefícios em geral","R$ / emp. / mês"]
[]
["Despesas administrativas"]
["Despesas com arrecadação","R$ / mês"]
["Seguro de responsabilidade civil","R$ / veículo / ano"]
["Licenciamento de veículo","R$ / veíc / ano"]
["IPVA","R$ / veíc / ano"]
["Custo com Sistema de Bilhetagem","R$ / veíc / mês"]
["Custo com Sistema de Monitoramento","R$ / veíc / mês"]
["Custo com app dos usuários","R$ / veíc / mês"]
["Custo com wi-fi","R$ / veíc / mês"]
["Custo com sistema de câmeras","R$ / veíc / mês"]
[]
["Custos com infraestrutura de garagem"]
["Valor do aluguel da garagem por mês","R$"]
["Investimento em terreno de garagem","R$"]
["Investimento em infraestrutura da garagem","R$"]
["Investimento em equipamentos da garagem","R$"]
["Investimento em veículos de apoio","R$"]
["Obs.: Caso a garagem seja alugada, não devem ser preenchidos os campos relativos a investimentos"]
[]
["Custos unitários de investimentos em sistemas tecnológicos"]
["Sistema de Bilhetagem","R$ / veículo"]
["Sistema de Monitoramento","R$ / veículo"]
["Sistema wi-fi","R$ / veículo"]
["Outros investimentos, se necessário","R$ / veículo"]
["Total","R$ / veículo",{"$f":"SUM(C49:C52)","v":0}]
[]
["1.2. Dados / Dados operacionais (Início da operação)"]
["Item","Unidade","Geral",{"$f":"$D$9","v":"Midiônibus I"},{"$f":"$E$9","v":"Midiônibus II"}]
["Frota operacional","un",null,13,10]
["Frota reserva técnica","un",null,1,1]
["Frota total","un",null,{"$f":"D57+D58","v":14},{"$f":"E57+E58","v":11}]
["Rodagem mensal operacional","km",null,68833,64072]
["Rodagem mensal ociosa","km",null,{"$f":"D60*D62","v":0},{"$f":"E60*E62","v":0}]
["% de produção  quilometragem ociosa em relação à produção quilométrica operacional","%"]
["Rodagem mensal","km",null,{"$f":"D60+D61","v":68833},{"$f":"E60+E61","v":64072}]
["Passageiros mensais equivalentes","un",121614.5]
["PMM","km / veículo operacional",null,{"$f":"D63/D57","v":5294.8461538461543},{"$f":"E63/E57","v":6407.2}]
[]
[]
["1.3. Composição da frota proposta (início da operação)"]
["Faixa de idade","Idade (anos)","Geral",{"$f":"$D$9","v":"Midiônibus I"},{"$f":"$E$9","v":"Midiônibus II"}]
["De 0 a 1 ano (exclusive)",0,null,14,11]
["De 1 ano (inclusive) a 2 anos (exclusive)",1]
["De 2 anos (inclusive) a 3 anos (exclusive)",2]
["De 3 anos (inclusive) a 4 anos (exclusive)",3]
["De 4 anos (inclusive) a 5 anos (exclusive)",4]
["De 5 anos (inclusive) a 6 anos (exclusive)",5]
["De 6 anos (inclusive) a 7 anos (exclusive)",6]
["De 7 anos (inclusive) a 8 anos (exclusive)",7]
["De 8 anos (inclusive) a 9 anos (exclusive)",8]
["De 9 anos (inclusive) a 10 anos (exclusive)",9]
["De 10 anos (inclusive) a 11 anos (exclusive)",10]
["Idade média",null,null,{"$f":"IF(SUM(E70:E80)=0,0,SUMPRODUCT(B70:B80,E70:E80)/SUM(E70:E80))","v":0},{"$f":"IF(SUM(E70:E80)=0,0,SUMPRODUCT(C70:C80,E70:E80)/SUM(E70:E80))","v":0}]
[]
["1.4. Coeficientes e parâmetros de cálculo"]
["Item","Unidade","Geral",{"$f":"$D$9","v":"Midiônibus I"},{"$f":"$E$9","v":"Midiônibus II"}]
[]
["Coeficientes de consumo para cálculo de custos variáveis"]
["Consumo de óleo diesel com ar-condicionado","l / km"]
["Consumo de lubrificantes","litros de diesel/km"]
["Consumo de ARLA 32","l / km"]
["Vida útil do pneu (novo + recapagens)","km"]
["Quantidade de recapagens por pneu","un"]
["Quantidade de pneus / ônibus","un",null,6,6]
["Peças e acessórios e serviços de manutenção","% do preço do veículo sem pneus por ano"]
["PMM de referência para custos de peças e acessórios","km/veíc/mês",null,6000,6000]
["Custos ambientais","% do preço do veículo com pneus por ano",0.01]
[]
["Parâmetros para o cálculo de custos de pessoal"]
["Fator de utilização de Motoristas para remuneração","Func. Equiv. / veículo"]
["Fator de utilização de Motoristas para benefícios","Func. / veículo"]
["Fator de utilizaçao do Setor de tráfego","Func. Equiv. / veículo"]
["Fator de utilização do Setor de manutenção","Func. Equiv. / veículo"]
["Fator de utilização do Setor administrativo","Func. Equiv. / veículo"]
["Fator de utilização de Diretores","Func. total"]
["Fator de mão de obra total para benefícios","Func. / veículo",{"$f":"C99+C100+C101+C102","v":0}]
[]
["Despesas gerais administrativas","% do preço do veículo por mês"]
[]
["Parâmetros para custos de capital"]
["Vida útil do veículo","anos"]
["% de valor residual da frota ao final da vida útil","%"]
["Vida útil das edificações de garagem","anos"]
["% de valor residual das edificações ao final da vida útil","%"]
["Vida útil dos equipamentos de garagem","anos"]
["% de valor residual dos equpamentos de garagem ao final da vida útil","%"]
["Vida útil dos veículos de apoio","anos"]
["% de valor residual dos veículos de apoio","%"]
["Vida útil dos equipamentos embarcados","anos"]
["% de valor residual dos equipamentos embarcados ao final da vida útil","%"]
[]
["Alíquotas de INSS e ISS sobre o faturamento"]
["Contribuição Previdenciária sobre a Receita Bruta - CPRB","%",0.02]
["Imposto sobre Serviços - ISS","%",0.02]
["Soma de alíquotas incidentes sobre a receita","%",{"$f":"SUM(C121:C122)","v":0.04}]
[]
["1.5. Demonstrativo da composição dos encargos sociais"]
["Item","Motoristas","Manut. & Tráfego","Administração"]
["Grupo A "]
["INSS - Contribuição da empresa (não preencher)"]
["SEST"]
["SENAT"]
["INCRA"]
["Salário Educação"]
["Seguro de Acidente de Trabalho - SAT"]
["SEBRAE"]
["FGTS"]
["Total A",{"$f":"SUM(B128:B135)","v":0},{"$f":"SUM(C128:C135)","v":0},{"$f":"SUM(D128:D135)","v":0}]
[]
["Grupo B"]
["Abono de Férias (1/3 adicional de férias)"]
["Aviso Prévio trabalhado"]
["Auxílio Doença, Acidente de Trabalho, Licença Paternidade"]
["13o. Salário"]
["Adicional Noturno"]
["Total B",{"$f":"SUM(B139:B143)","v":0},{"$f":"SUM(C139:C143)","v":0},{"$f":"SUM(D139:D143)","v":0}]
[]
["Grupo C"]
["Aviso Prévio indenizado"]
["FGTS sobre Aviso Prévio Indenizado"]
["Multa sobre FGTS em rescião sem justa causa"]
["Constribuição Social Artigo 1 Lei Compl. 110/01"]
["Férias e 13º salário referente ao aviso prévio indenizado"]
["FGTS do cálculo de férias e 13º salário ref. ao aviso prévio indenizado"]
["Total C",{"$f":"SUM(B147:B152)","v":0},{"$f":"SUM(C147:C152)","v":0},{"$f":"SUM(D147:D152)","v":0}]
[]
["Grupo D"]
["Incidência do Grupo A no Grupo B",{"$f":"+B136*B144","v":0},{"$f":"+C136*C144","v":0},{"$f":"+D136*D144","v":0}]
[]
["Total",{"$f":"B156+B153+B144+B136","v":0},{"$f":"C156+C153+C144+C136","v":0},{"$f":"D156+D153+D144+D136","v":0}]
[]
["1.6. Fatores de Depreciação"]
["Faixa de idade","Idade (anos)",{"$f":"$D$9","v":"Midiônibus I"},{"$f":"$E$9","v":"Midiônibus II"},"Aux. Dígitos"]
["De 0 a 1 ano (exclusive)",0,{"$f":"IF($B162<=$D$109,(1-$D$110)*($D$109-$B162)/VLOOKUP($D$109,$B$162:$E$172,COLUMNS($B$161:$E$161),FALSE),0)","v":{"$error":"#DIV/0!"}},{"$f":"IF($B162<=$E$109,(1-$E$110)*($E$109-$B162)/VLOOKUP($E$109,$B$162:$E$172,COLUMNS($B$161:$E$161),FALSE),0)","v":{"$error":"#DIV/0!"}},0]
["De 1 ano (inclusive) a 2 anos (exclusive)",1,0,0,{"$f":"E162+B163","v":1}]
["De 2 anos (inclusive) a 3 anos (exclusive)",2,0,0,{"$f":"E163+B164","v":3}]
["De 3 anos (inclusive) a 4 anos (exclusive)",3,0,0,6]
["De 4 anos (inclusive) a 5 anos (exclusive)",4,0,0,10]
["De 5 anos (inclusive) a 6 anos (exclusive)",5,0,0,15]
["De 6 anos (inclusive) a 7 anos (exclusive)",6,0,0,21]
["De 7 anos (inclusive) a 8 anos (exclusive)",7,0,0,28]
["De 8 anos (inclusive) a 9 anos (exclusive)",8,0,0,36]
["De 9 anos (inclusive) a 10 anos (exclusive)",9,0,0,45]
["De 10 anos (inclusive) a 11 anos (exclusive)",10,0,0,55]

{"sheet":"C. Mem_calculo","index":2,"n_rows":184,"n_cols":9,"rows_kept":184,"cut":false,"hidden":false,"merged":[[116,1,116,2],[111,1,111,2],[112,1,112,2],[113,1,113,2],[114,1,114,2],[115,1,115,2]]}
[{"$f":"'A. Identificação'!A2&\" - \"&'A. Identificação'!A3","v":"Município de Extrema (MG) - Prefeitura Municipal de Extrema"}]
[{"$f":"'A. Identificação'!A4","v":"Concessão do Sistema de Transporte Público Coletivo de Extrema - STPC-Extrema"}]
[{"$f":"\"Proponente: \"&'A. Identificação'!C9&\" - CNPJ: \"&'A. Identificação'!C11","v":"Proponente:  - CNPJ: "}]
[{"$f":"'A. Identificação'!$A$5","v":"Proposta Comercial"},null,"Apresentação:",{"$f":"'A. Identificação'!C19","v":"00:00:00"}]
[]
["2. Demonstrativo dos custos variáveis"]
[]
["Item de custo","Custo unitário (R$/km)","Custo unitário (R$/ veic. / mês)","Custo Total Mensal (R$)"]
["Óleo Diesel",{"$f":"D9/('B. Dados de entrada'!$D$60+'B. Dados de entrada'!$E$60)","v":0},{"$f":"D9/('B. Dados de entrada'!$D$59+'B. Dados de entrada'!$E$59)","v":0},{"$f":"C25+D25","v":0}]
["Lubrificantes",{"$f":"D10/('B. Dados de entrada'!$D$60+'B. Dados de entrada'!$E$60)","v":0},{"$f":"D10/('B. Dados de entrada'!$D$59+'B. Dados de entrada'!$E$59)","v":0},{"$f":"C34+D34","v":0}]
["ARLA 32",{"$f":"D11/('B. Dados de entrada'!$D$60+'B. Dados de entrada'!$E$60)","v":0},{"$f":"D11/('B. Dados de entrada'!$D$59+'B. Dados de entrada'!$E$59)","v":0},{"$f":"C44+D44","v":0}]
["Pneu novo",{"$f":"D12/('B. Dados de entrada'!$D$60+'B. Dados de entrada'!$E$60)","v":{"$error":"#DIV/0!"}},{"$f":"D12/('B. Dados de entrada'!$D$59+'B. Dados de entrada'!$E$59)","v":{"$error":"#DIV/0!"}},{"$f":"C54+D54","v":{"$error":"#DIV/0!"}}]
["Serviço de recapagem",{"$f":"D13/('B. Dados de entrada'!$D$60+'B. Dados de entrada'!$E$60)","v":{"$error":"#DIV/0!"}},{"$f":"D13/('B. Dados de entrada'!$D$59+'B. Dados de entrada'!$E$59)","v":{"$error":"#DIV/0!"}},{"$f":"C65+D65","v":{"$error":"#DIV/0!"}}]
["Peças e acessórios",{"$f":"D14/('B. Dados de entrada'!$D$60+'B. Dados de entrada'!$E$60)","v":0},{"$f":"D14/('B. Dados de entrada'!$D$59+'B. Dados de entrada'!$E$59)","v":0},{"$f":"C77+D77","v":0}]
["Despesas ambientais",{"$f":"D15/('B. Dados de entrada'!$D$60+'B. Dados de entrada'!$E$60)","v":0},{"$f":"D15/('B. Dados de entrada'!$D$59+'B. Dados de entrada'!$E$59)","v":0},{"$f":"C86+D86","v":0}]
["Total",{"$f":"SUM(B9:B15)","v":{"$error":"#DIV/0!"}},{"$f":"SUM(C9:C15)","v":{"$error":"#DIV/0!"}},{"$f":"SUM(D9:D15)","v":{"$error":"#DIV/0!"}}]
[]
["2.1 - Óleo Diesel"]
[]
["Item","Unidade",{"$f":"'B. Dados de entrada'!$D$9","v":"Midiônibus I"},{"$f":"'B. Dados de entrada'!$E$9","v":"Midiônibus II"}]
["Coeficiente de consumo","litros/km",{"$f":"'B. Dados de entrada'!D87","v":0},{"$f":"'B. Dados de entrada'!E87","v":0}]
["Preço ","R$/litro",{"$f":"'B. Dados de entrada'!$C$12","v":0},{"$f":"'B. Dados de entrada'!$C$12","v":0}]
["Custo unitário","R$/km",{"$f":"C21*C22","v":0},{"$f":"D21*D22","v":0}]
["Produção quilométrica","km",{"$f":"'B. Dados de entrada'!$D$63","v":68833},{"$f":"'B. Dados de entrada'!$E$63","v":64072}]
["Custo total","R$",{"$f":"C24*C23","v":0},{"$f":"D24*D23","v":0}]
[]
["2.2 - Lubrificantes"]
[]
["Item","Unidade",{"$f":"'B. Dados de entrada'!$D$9","v":"Midiônibus I"},{"$f":"'B. Dados de entrada'!$E$9","v":"Midiônibus II"}]
["Coeficiente de consumo","litros/km",{"$f":"'B. Dados de entrada'!D88","v":0},{"$f":"'B. Dados de entrada'!E88","v":0}]
["Preço ","R$/litro",{"$f":"'B. Dados de entrada'!$C$12","v":0},{"$f":"'B. Dados de entrada'!$C$12","v":0}]
["Custo unitário","R$/km",{"$f":"C30*C31","v":0},{"$f":"D30*D31","v":0}]
["Produção quilométrica","km",{"$f":"'B. Dados de entrada'!$D$63","v":68833},{"$f":"'B. Dados de entrada'!$E$63","v":64072}]
["Custo total","R$",{"$f":"C33*C32","v":0},{"$f":"D33*D32","v":0}]
[]
["2.3 - Arla"]
[]
["Item","Unidade",{"$f":"'B. Dados de entrada'!$D$9","v":"Midiônibus I"},{"$f":"'B. Dados de entrada'!$E$9","v":"Midiônibus II"}]
["Coeficiente de consumo","litros/litros diesel",{"$f":"'B. Dados de entrada'!D89","v":0},{"$f":"'B. Dados de entrada'!E89","v":0}]
["Coeficiente de consumo de diesel","litros/km",{"$f":"C21","v":0},{"$f":"D21","v":0}]
["Preço ","R$/litro",{"$f":"'B. Dados de entrada'!$C$15","v":0},{"$f":"'B. Dados de entrada'!$C$15","v":0}]
["Custo unitário","R$/km",{"$f":"C39*C41*C40","v":0},{"$f":"D39*D41*D40","v":0}]
["Produção quilométrica","km",{"$f":"'B. Dados de entrada'!$D$63","v":68833},{"$f":"'B. Dados de entrada'!$E$63","v":64072}]
["Custo total","R$",{"$f":"C43*C42","v":0},{"$f":"D43*D42","v":0}]
[]
["2.4.1 - Pneus novos"]
[]
["Item","Unidade",{"$f":"'B. Dados de entrada'!$D$9","v":"Midiônibus I"},{"$f":"'B. Dados de entrada'!$E$9","v":"Midiônibus II"}]
["Vida útil do pneu","km/pneu",{"$f":"'B. Dados de entrada'!D90","v":0},{"$f":"'B. Dados de entrada'!E90","v":0}]
["Quantidade de pneus/ônibus","unidade/ônibus",{"$f":"'B. Dados de entrada'!$D$92","v":6},{"$f":"'B. Dados de entrada'!$E$92","v":6}]
["Preço ","R$/pneu",{"$f":"'B. Dados de entrada'!D13","v":0},{"$f":"'B. Dados de entrada'!E13","v":0}]
["Custo unitário","R$/km",{"$f":"C50*C51/C49","v":{"$error":"#DIV/0!"}},{"$f":"D50*D51/D49","v":{"$error":"#DIV/0!"}}]
["Produção quilométrica","km",{"$f":"'B. Dados de entrada'!$D$63","v":68833},{"$f":"'B. Dados de entrada'!$E$63","v":64072}]
["Custo total","R$",{"$f":"C53*C52","v":{"$error":"#DIV/0!"}},{"$f":"D53*D52","v":{"$error":"#DIV/0!"}}]
[]
["2.4.2 - Recapagem"]
[]
["Item","Unidade",{"$f":"'B. Dados de entrada'!$D$9","v":"Midiônibus I"},{"$f":"'B. Dados de entrada'!$E$9","v":"Midiônibus II"}]
["Vida útil do pneu","km/pneu",{"$f":"'B. Dados de entrada'!D90","v":0},{"$f":"'B. Dados de entrada'!E90","v":0}]
["Quantidade de pneus/ônibus","unidade/ônibus",{"$f":"'B. Dados de entrada'!$D$92","v":6},{"$f":"'B. Dados de entrada'!$E$92","v":6}]
["Quantidade de recapagens/pneu","unidade/pneu",{"$f":"'B. Dados de entrada'!D91","v":0},{"$f":"'B. Dados de entrada'!E91","v":0}]
["Preço ","R$/recapagem",{"$f":"'B. Dados de entrada'!D14","v":0},{"$f":"'B. Dados de entrada'!E14","v":0}]
["Custo unitário","R$/km",{"$f":"C60*C61*C62/C59","v":{"$error":"#DIV/0!"}},{"$f":"D60*D61*D62/D59","v":{"$error":"#DIV/0!"}}]
["Produção quilométrica","km",{"$f":"'B. Dados de entrada'!$D$63","v":68833},{"$f":"'B. Dados de entrada'!$E$63","v":64072}]
["Custo total","R$",{"$f":"C64*C63","v":{"$error":"#DIV/0!"}},{"$f":"D64*D63","v":{"$error":"#DIV/0!"}}]
[]
["2.5 - Peças e acessórios"]
[]
["Item","Unidade",{"$f":"'B. Dados de entrada'!$D$9","v":"Midiônibus I"},{"$f":"'B. Dados de entrada'!$E$9","v":"Midiônibus II"}]
["Coeficiente","% pvnsp",{"$f":"'B. Dados de entrada'!D93","v":0},{"$f":"'B. Dados de entrada'!E93","v":0}]
["Preço do ônibus novo sem pneus (pvnsp)","R$",{"$f":"'B. Dados de entrada'!D19","v":0},{"$f":"'B. Dados de entrada'!E19","v":0}]
["Custo unitário","R$/veíc./ano",{"$f":"C70*C71","v":0},{"$f":"D70*D71","v":0}]
["Custo unitário","R$/veíc./mês",{"$f":"C72/12","v":0},{"$f":"D72/12","v":0}]
["PMM de referência","km/veículo/mês",{"$f":"'B. Dados de entrada'!D94","v":6000},{"$f":"'B. Dados de entrada'!E94","v":6000}]
["Custo unitário","R$/km",{"$f":"C73/C74","v":0},{"$f":"D73/D74","v":0}]
["Produção quilométrica","km",{"$f":"'B. Dados de entrada'!$D$63","v":68833},{"$f":"'B. Dados de entrada'!$E$63","v":64072}]
["Custo total","R$/mês",{"$f":"C76*C75","v":0},{"$f":"D76*D75","v":0}]
[]
["2.6 - Custos ambientais"]
[]
["Item","Unidade",{"$f":"'B. Dados de entrada'!$D$9","v":"Midiônibus I"},{"$f":"'B. Dados de entrada'!$E$9","v":"Midiônibus II"}]
["Coeficiente de consumo","% pvcp",{"$f":"'B. Dados de entrada'!$C$95","v":0.01},{"$f":"'B. Dados de entrada'!$C$95","v":0.01}]
["Preço do ônibus novo com pneus (pvcp)","R$",{"$f":"'B. Dados de entrada'!D18","v":0},{"$f":"'B. Dados de entrada'!E18","v":0}]
["Custo unitário","R$/veículo/ano",{"$f":"C82*C83","v":0},{"$f":"D82*D83","v":0}]
["Frota","veículos",{"$f":"'B. Dados de entrada'!D59","v":14},{"$f":"'B. Dados de entrada'!E59","v":11}]
["Custo total","R$/mês",{"$f":"C85*C84/12","v":0},{"$f":"D85*D84/12","v":0}]
[]
[]
["3. Demonstrativo dos custos fixos operacionais"]
["Item de custo","Custo unitário (R$/km)","Custo unitário (R$/ veic. / mês)","Custo Total Mensal (R$)"]
["Custo com mão de obra"]
["Pagamento de salários e encagos sociais",{"$f":"SUM(B93:B96)","v":0},{"$f":"SUM(C93:C96)","v":0},{"$f":"SUM(D93:D96)","v":0}]
["Motoristas",{"$f":"D93/('B. Dados de entrada'!$D$60+'B. Dados de entrada'!$E$60)","v":0},{"$f":"D93/('B. Dados de entrada'!$D$59+'B. Dados de entrada'!$E$59)","v":0},{"$f":"H113+I113","v":0}]
["Pessoal do tráfego",{"$f":"D94/('B. Dados de entrada'!$D$60+'B. Dados de entrada'!$E$60)","v":0},{"$f":"D94/('B. Dados de entrada'!$D$59+'B. Dados de entrada'!$E$59)","v":0},{"$f":"H114+I114","v":0}]
["Pessoal de manutenção",{"$f":"D95/('B. Dados de entrada'!$D$60+'B. Dados de entrada'!$E$60)","v":0},{"$f":"D95/('B. Dados de entrada'!$D$59+'B. Dados de entrada'!$E$59)","v":0},{"$f":"H115+I115","v":0}]
["Pessoal administrativo",{"$f":"D96/('B. Dados de entrada'!$D$60+'B. Dados de entrada'!$E$60)","v":0},{"$f":"D96/('B. Dados de entrada'!$D$59+'B. Dados de entrada'!$E$59)","v":0},{"$f":"H116+I116","v":0}]
["Benefícios",{"$f":"D97/('B. Dados de entrada'!$D$60+'B. Dados de entrada'!$E$60)","v":0},{"$f":"D97/('B. Dados de entrada'!$D$59+'B. Dados de entrada'!$E$59)","v":0},{"$f":"C126","v":0}]
["Sub-total",{"$f":"D98/('B. Dados de entrada'!$D$60+'B. Dados de entrada'!$E$60)","v":0},{"$f":"D98/('B. Dados de entrada'!$D$59+'B. Dados de entrada'!$E$59)","v":0},{"$f":"D97+D92","v":0}]
["Custos administrativos"]
["Pró-labore",{"$f":"D100/('B. Dados de entrada'!$D$60+'B. Dados de entrada'!$E$60)","v":0},{"$f":"D100/('B. Dados de entrada'!$D$59+'B. Dados de entrada'!$E$59)","v":0},{"$f":"C135","v":0}]
["Desp. adm. diversas",{"$f":"D101/('B. Dados de entrada'!$D$60+'B. Dados de entrada'!$E$60)","v":0},{"$f":"D101/('B. Dados de entrada'!$D$59+'B. Dados de entrada'!$E$59)","v":0},{"$f":"C144","v":0}]
["Comercialização",{"$f":"D102/('B. Dados de entrada'!$D$60+'B. Dados de entrada'!$E$60)","v":0},{"$f":"D102/('B. Dados de entrada'!$D$59+'B. Dados de entrada'!$E$59)","v":0},{"$f":"C151","v":0}]
["Seguro de responsabilidade civil",{"$f":"D103/('B. Dados de entrada'!$D$60+'B. Dados de entrada'!$E$60)","v":0},{"$f":"D103/('B. Dados de entrada'!$D$59+'B. Dados de entrada'!$E$59)","v":0},{"$f":"C159","v":0}]
["Licenciamento e IPVA",{"$f":"D104/('B. Dados de entrada'!$D$60+'B. Dados de entrada'!$E$60)","v":0},{"$f":"D104/('B. Dados de entrada'!$D$59+'B. Dados de entrada'!$E$59)","v":0},{"$f":"C167","v":0}]
["Sistemas tecnológicos",{"$f":"D105/('B. Dados de entrada'!$D$60+'B. Dados de entrada'!$E$60)","v":0},{"$f":"D105/('B. Dados de entrada'!$D$59+'B. Dados de entrada'!$E$59)","v":0},{"$f":"C179","v":0}]
["Aluguel de garagem",{"$f":"D106/('B. Dados de entrada'!$D$60+'B. Dados de entrada'!$E$60)","v":0},{"$f":"D106/('B. Dados de entrada'!$D$59+'B. Dados de entrada'!$E$59)","v":0},{"$f":"C184","v":0}]
["Sub-total",{"$f":"SUM(B100:B106)","v":0},{"$f":"SUM(C100:C106)","v":0},{"$f":"SUM(D100:D106)","v":0}]
["Total",{"$f":"+B107+B98","v":0},{"$f":"C98+C107","v":0},{"$f":"+D98+D107","v":0}]
[]
["4. Memórias de cálculo de custos fixos"]
["4.1. Memória de cálculo do custo com salários e encargos sociais"]
["Categoria","Unidade",null,"Fator","Salário mensal (R$)","Encargos Sociais (%)","Custo por veículo oper. / mês (R$)","Custo mensal Midiônibus I","Custo mensal Midiônibus II"]
["Motoristas","Func. Equiv./veículo",null,{"$f":"'B. Dados de entrada'!C98","v":0},{"$f":"'B. Dados de entrada'!C22","v":0},{"$f":"'B. Dados de entrada'!$B$158","v":0},{"$f":"ROUND(D113*E113*(1+F113),2)","v":0},{"$f":"G113*'B. Dados de entrada'!$D$57","v":0},{"$f":"G113*'B. Dados de entrada'!$E$57","v":0}]
["Setor de Tráfego","Func. Equiv./veículo",null,{"$f":"'B. Dados de entrada'!C100","v":0},{"$f":"'B. Dados de entrada'!C23","v":0},{"$f":"'B. Dados de entrada'!$C$158","v":0},{"$f":"ROUND(D114*E114*(1+F114),2)","v":0},{"$f":"G114*'B. Dados de entrada'!$D$57","v":0},{"$f":"G114*'B. Dados de entrada'!$E$57","v":0}]
["Setor de Manutenção","% do custo operacional",null,{"$f":"'B. Dados de entrada'!C101","v":0},{"$f":"'B. Dados de entrada'!C24","v":0},{"$f":"'B. Dados de entrada'!$C$158","v":0},{"$f":"ROUND(D115*E115*(1+F115),2)","v":0},{"$f":"G115*'B. Dados de entrada'!$D$57","v":0},{"$f":"G115*'B. Dados de entrada'!$E$57","v":0}]
["Setor de Administração","% do custo operacional",null,{"$f":"'B. Dados de entrada'!C102","v":0},{"$f":"'B. Dados de entrada'!C25","v":0},{"$f":"'B. Dados de entrada'!$D$158","v":0},{"$f":"ROUND(D116*E116*(1+F116),2)","v":0},{"$f":"G116*'B. Dados de entrada'!$D$57","v":0},{"$f":"G116*'B. Dados de entrada'!$E$57","v":0}]
["Total",null,null,null,null,null,{"$f":"SUM(G113:G116)","v":0},{"$f":"SUM(H113:H116)","v":0},{"$f":"SUM(I113:I116)","v":0}]
[]
["4.2.  Memória de cálculo do custo com benefícios "]
[]
["Item","Unidade","Global"]
["Fator de utilização total","Func./veículo",{"$f":"'B. Dados de entrada'!C104","v":0}]
["Custo unitário dos benefíciso","R$/func.",{"$f":"'B. Dados de entrada'!C27","v":0}]
["Custo unitário","R$/veíc./mês",{"$f":"C122*C123","v":0}]
["Frota operacional","Veículos",{"$f":"'B. Dados de entrada'!D57+'B. Dados de entrada'!E57","v":23}]
["Custo total","R$/mês",{"$f":"C125*C124","v":0}]
[]
["4.3.  Memória de cálculo de custos administrativos "]
[]
["4.3.1 - Diretoria"]
[]
["Item","Unidade","Global"]
["Diretores","unidade",{"$f":"'B. Dados de entrada'!C103","v":0}]
["Valor do pró-labore","R$/mês",{"$f":"'B. Dados de entrada'!C26","v":0}]
["Custo total","R$/mês",{"$f":"C133*C134","v":0}]
[]
["4.3.2 - Despesas administrativas diversas"]
[]
["Item","Unidade","Global"]
["Coeficiente","R$/pvnm",{"$f":"'B. Dados de entrada'!C106","v":0}]
["Preço do veículo novo médio (pvnm)","R$",{"$f":"('B. Dados de entrada'!D18+'B. Dados de entrada'!E18)/2","v":0}]
["Custo unitário","R$/veículo",{"$f":"C140*C141","v":0}]
["Frota total","Veículos",{"$f":"'B. Dados de entrada'!D59+'B. Dados de entrada'!E59","v":25}]
["Custo total","R$/mês",{"$f":"C143*C142","v":0}]
[]
["4.3.3 - Despesas de comercialização"]
[]
["Item","Unidade","Global"]
["Custo unitário por veículo","R$/veículo",{"$f":"'B. Dados de entrada'!C30","v":0}]
["Frota total","Veículos",{"$f":"'B. Dados de entrada'!D57+'B. Dados de entrada'!E57","v":23}]
["Custo total","R$/mês",{"$f":"C150*C149","v":0}]
[]
["4.3.4 - Seguro de responsabilidade civil"]
[]
["Item","Unidade","Global"]
["Custo unitário por veículo","R$/veículo/ano",{"$f":"'B. Dados de entrada'!C31","v":0}]
["Frota total","Veículos",{"$f":"'B. Dados de entrada'!$D$59+'B. Dados de entrada'!$E$59","v":25}]
["Custo total","R$/ano",{"$f":"C157*C156","v":0}]
["Custo total","R$/mês",{"$f":"C158/12","v":0}]
[]
["4.3.5 - Licenciamento e IPVA"]
[]
["Item","Unidade","Global"]
["Custo unitário por veículo","R$/veículo/ano",{"$f":"'B. Dados de entrada'!C32+'B. Dados de entrada'!C33","v":0}]
["Frota total","Veículos",{"$f":"'B. Dados de entrada'!$D$59+'B. Dados de entrada'!$E$59","v":25}]
["Custo total","R$/ano",{"$f":"C165*C164","v":0}]
["Custo total","R$/mês",{"$f":"C166/12","v":0}]
[]
["4.3.6 - Sistemas tecnológicos"]
[]
["Item","Unidade","Global"]
["Custos totais","R$/veículo/mês",{"$f":"SUM(C173:C177)","v":0}]
["Custo com Sistema de Bilhetagem","R$/veículo/mês",{"$f":"'B. Dados de entrada'!C34","v":0}]
["Custo com Sistema de Monitoramento","R$/veículo/mês",{"$f":"'B. Dados de entrada'!C35","v":0}]
["Custo com app dos usuários","R$/veículo/mês",{"$f":"'B. Dados de entrada'!C36","v":0}]
["Custo com wi-fi","R$/veículo/mês",{"$f":"'B. Dados de entrada'!C37","v":0}]
["Custo com sistema de câmeras","R$/veículo/mês",{"$f":"'B. Dados de entrada'!C38","v":0}]
["Frota total","Veículos",{"$f":"'B. Dados de entrada'!$D$59+'B. Dados de entrada'!$E$59","v":25}]
["Custo total","R$/mês",{"$f":"C178*C172","v":0}]
[]
["4.3.7 - Aluguel de garagem"]
[]
["Item","Unidade","Global"]
["Custos totais","Global",{"$f":"'B. Dados de entrada'!C41","v":0}]

{"sheet":"D. Capital","index":3,"n_rows":261,"n_cols":19,"rows_kept":261,"cut":false,"hidden":false,"merged":[[246,0,246,1],[247,0,247,1],[232,0,232,1],[233,0,233,1],[235,0,235,1],[236,0,236,1],[237,0,237,1],[226,0,226,1],[242,0,242,1],[179,0,179,1],[243,0,243,1],[245,0,245,1],[222,0,222,1],[223,0,223,1],[227,0,227,1],[174,0,174,1],[175,0,175,1],[176,0,176,1],[177,0,177,1],[225,0,225,1]]}
[{"$f":"'A. Identificação'!A2&\" - \"&'A. Identificação'!A3","v":"Município de Extrema (MG) - Prefeitura Municipal de Extrema"}]
[{"$f":"'A. Identificação'!A4","v":"Concessão do Sistema de Transporte Público Coletivo de Extrema - STPC-Extrema"}]
[{"$f":"\"Proponente: \"&'A. Identificação'!C9&\" - CNPJ: \"&'A. Identificação'!C11","v":"Proponente:  - CNPJ: "}]
[{"$f":"'A. Identificação'!$A$5","v":"Proposta Comercial"},null,"Apresentação:",{"$f":"'A. Identificação'!C19","v":"00:00:00"}]
[]
["5. Investimentos projetados em frota"]
[]
[{"$f":"\"5.1. \"&'B. Dados de entrada'!D9","v":"5.1. Midiônibus I"}]
[null,null,null,null,"Preço do ônibus 0km sem pneus",null,{"$f":"'B. Dados de entrada'!D19","v":0}]
["5.1.1. Quadro de frota e aquisições"]
["Faixa etária","Anos","Ano 0",1,{"$f":"D11+1","v":2},{"$f":"E11+1","v":3},4,5,6,7,{"$f":"J11+1","v":8},9,{"$f":"L11+1","v":10},{"$f":"M11+1","v":11},null,"Fat. Dep.","Fat. Dep. Fiscal","% do valor do veíc."]
["0 - 1",{"$f":"VALUE(LEFT(A12))","v":0},{"$f":"'B. Dados de entrada'!D70","v":14},null,null,null,null,null,null,null,null,null,null,null,null,{"$f":"'B. Dados de entrada'!C162","v":{"$error":"#DIV/0!"}},0.25,1]
["1 - 2",1,0,null,null,null,null,null,null,null,null,null,null,null,null,{"$f":"'B. Dados de entrada'!C163","v":0},0.25,{"$f":"IF(P12=\"\",\"\",R12-P12)","v":{"$error":"#DIV/0!"}}]
["2 - 3",2,0,null,null,null,null,null,null,null,null,null,null,null,null,{"$f":"'B. Dados de entrada'!C164","v":0},0.25,{"$error":"#DIV/0!"}]
["3 - 4",3,0,null,null,null,null,null,null,null,null,null,null,null,null,{"$f":"'B. Dados de entrada'!C165","v":0},0.25,{"$error":"#DIV/0!"}]
["4 - 5",4,0,null,null,null,null,null,null,null,null,null,null,null,null,{"$f":"'B. Dados de entrada'!C166","v":0},null,{"$error":"#DIV/0!"}]
["5 - 6",5,0,null,null,null,null,null,null,null,null,null,null,null,null,{"$f":"'B. Dados de entrada'!C167","v":0},null,{"$error":"#DIV/0!"}]
["6 - 7",6,0,null,null,null,null,null,null,null,null,null,null,null,null,{"$f":"'B. Dados de entrada'!C168","v":0},null,{"$error":"#DIV/0!"}]
["7 - 8",7,0,null,null,null,null,null,null,null,null,null,null,null,null,{"$f":"'B. Dados de entrada'!C169","v":0},null,{"$error":"#DIV/0!"}]
["8 - 9",8,0,null,null,null,null,null,null,null,null,null,null,null,null,{"$f":"'B. Dados de entrada'!C170","v":0},null,{"$error":"#DIV/0!"}]
["9 - 10",9,0,null,null,null,null,null,null,null,null,null,null,null,null,{"$f":"'B. Dados de entrada'!C171","v":0},null,{"$error":"#DIV/0!"}]
["Mais que 10",10,0,null,null,null,null,null,null,null,null,null,null,null,null,{"$f":"'B. Dados de entrada'!C172","v":0},null,{"$error":"#DIV/0!"}]
["Total",null,{"$f":"SUM(C12:C22)","v":14},null,{"$f":"SUM(E12:E22)","v":0},{"$f":"SUM(F12:F22)","v":0},0,0,0,0,0,0,0]
[]
["Valor do investimento (R$)",null,{"$f":"SUMPRODUCT(C12:C22,R12:R22)*G9","v":{"$error":"#DIV/0!"}},null,{"$f":"SUMPRODUCT(E12:E22,R12:R22)*G9","v":{"$error":"#DIV/0!"}},{"$f":"SUMPRODUCT(F12:F22,R12:R22)*G9","v":{"$error":"#DIV/0!"}},{"$f":"SUMPRODUCT(G12:G22,R12:R22)*G9","v":{"$error":"#DIV/0!"}},{"$f":"SUMPRODUCT(H12:H22,R12:R22)*G9","v":{"$error":"#DIV/0!"}},{"$f":"SUMPRODUCT(I12:I22,R12:R22)*G9","v":{"$error":"#DIV/0!"}},{"$f":"SUMPRODUCT(J12:J22,R12:R22)*G9","v":{"$error":"#DIV/0!"}},{"$f":"SUMPRODUCT(K12:K22,R12:R22)*G9","v":{"$error":"#DIV/0!"}},{"$f":"SUMPRODUCT(L12:L22,R12:R22)*G9","v":{"$error":"#DIV/0!"}},{"$f":"SUMPRODUCT(M12:M22,R12:R22)*G9","v":{"$error":"#DIV/0!"}}]
[]
["5.1.2. Venda"]
["Faixa etária","Anos","Ano 0",1,{"$f":"D28+1","v":2},{"$f":"E28+1","v":3},4,5,6,7,{"$f":"J28+1","v":8},9,{"$f":"L28+1","v":10},{"$f":"M28+1","v":11}]
["0 - 1",{"$f":"VALUE(LEFT(A29))","v":0}]
["1 - 2",1,null,null,null,null,null,null,null,null,null,null,null,{"$f":"M50","v":0}]
["2 - 3",2,null,null,null,null,null,null,null,null,null,null,null,{"$f":"M51","v":0}]
["3 - 4",3,null,null,null,null,null,null,null,null,null,null,null,0]
["4 - 5",4,null,null,null,null,null,null,null,null,null,null,null,0]
["5 - 6",5,null,null,null,null,null,null,null,null,null,null,null,0]
["6 - 7",6,null,null,null,null,null,null,null,null,null,null,null,0]
["7 - 8",7,null,null,null,null,null,null,null,null,null,null,null,0]
["8 - 9",8,null,null,null,null,null,null,null,null,null,null,null,0]
["9 - 10",9,null,null,null,null,null,null,null,null,null,null,null,0]
["Mais que 10",10,null,null,null,{"$f":"IF(C60<>0,C60,0)","v":0},0,{"$f":"IF(F60<>0,F60,0)","v":0},0,{"$f":"IF(H60<>0,H60,0)","v":0},0,{"$f":"IF(J60<>0,J60,0)","v":0},0,{"$f":"M59+M60","v":14}]
["Total",null,null,null,{"$f":"SUM(E29:E39)","v":0},0,0,0,0,0,0,0,0,{"$f":"SUM(N29:N39)","v":14}]
[]
["Valor da venda bruta (R$)",null,null,null,{"$f":"SUMPRODUCT(E29:E39,R12:R22)*G9","v":{"$error":"#DIV/0!"}},{"$f":"SUMPRODUCT(F29:F39,R12:R22)*G9","v":{"$error":"#DIV/0!"}},{"$f":"SUMPRODUCT(G29:G39,R12:R22)*G9","v":{"$error":"#DIV/0!"}},{"$f":"SUMPRODUCT(H29:H39,R12:R22)*G9","v":{"$error":"#DIV/0!"}},{"$f":"SUMPRODUCT(I29:I39,R12:R22)*G9","v":{"$error":"#DIV/0!"}},{"$f":"SUMPRODUCT(J29:J39,R12:R22)*G9","v":{"$error":"#DIV/0!"}},{"$f":"SUMPRODUCT(K29:K39,R12:R22)*G9","v":{"$error":"#DIV/0!"}},{"$f":"SUMPRODUCT(L29:L39,R12:R22)*G9","v":{"$error":"#DIV/0!"}},{"$f":"SUMPRODUCT(M29:M39,R12:R22)*G9","v":{"$error":"#DIV/0!"}},{"$f":"SUMPRODUCT(N29:N39,R12:R22)*G9","v":{"$error":"#DIV/0!"}}]
["Valor da venda tributado (R$)",null,null,null,{"$f":"E42-SUMPRODUCT(E29:E32,Q12:Q15)*G9","v":{"$error":"#DIV/0!"}},{"$f":"F42-SUMPRODUCT(F29:F32,Q12:Q15)*G9","v":{"$error":"#DIV/0!"}},{"$f":"G42-SUMPRODUCT(G29:G32,Q12:Q15)*G9","v":{"$error":"#DIV/0!"}},{"$f":"H42-SUMPRODUCT(H29:H32,Q12:Q15)*G9","v":{"$error":"#DIV/0!"}},{"$f":"I42-SUMPRODUCT(I29:I32,Q12:Q15)*G9","v":{"$error":"#DIV/0!"}},{"$f":"J42-SUMPRODUCT(J29:J32,Q12:Q15)*G9","v":{"$error":"#DIV/0!"}},{"$f":"K42-SUMPRODUCT(K29:K32,Q12:Q15)*G9","v":{"$error":"#DIV/0!"}},{"$f":"L42-SUMPRODUCT(L29:L32,Q12:Q15)*G9","v":{"$error":"#DIV/0!"}},{"$f":"M42-SUMPRODUCT(M29:M32,Q12:Q15)*G9","v":{"$error":"#DIV/0!"}},{"$f":"N42-SUMPRODUCT(N29:N32,Q12:Q15)*G9","v":{"$error":"#DIV/0!"}}]
["Valor da venda não tributado (R$)",null,null,null,{"$f":"E42-E43","v":{"$error":"#DIV/0!"}},{"$error":"#DIV/0!"},{"$error":"#DIV/0!"},{"$error":"#DIV/0!"},{"$error":"#DIV/0!"},{"$error":"#DIV/0!"},{"$f":"K42-K43","v":{"$error":"#DIV/0!"}},{"$f":"L42-L43","v":{"$error":"#DIV/0!"}},{"$f":"M42-M43","v":{"$error":"#DIV/0!"}},{"$f":"N42-N43","v":{"$error":"#DIV/0!"}}]
["Imposto sobre o lucro da venda (R$)",null,null,null,{"$f":"E43*34%","v":{"$error":"#DIV/0!"}},{"$error":"#DIV/0!"},{"$error":"#DIV/0!"},{"$error":"#DIV/0!"},{"$error":"#DIV/0!"},{"$error":"#DIV/0!"},{"$f":"K43*34%","v":{"$error":"#DIV/0!"}},{"$error":"#DIV/0!"},{"$error":"#DIV/0!"},{"$error":"#DIV/0!"}]
["Valor da venda líquida (R$)",null,null,null,{"$f":"E42-E45","v":{"$error":"#DIV/0!"}},{"$error":"#DIV/0!"},{"$error":"#DIV/0!"},{"$error":"#DIV/0!"},{"$error":"#DIV/0!"},{"$error":"#DIV/0!"},{"$error":"#DIV/0!"},{"$error":"#DIV/0!"},{"$error":"#DIV/0!"},{"$error":"#DIV/0!"}]
[]
["5.1.3. Posição da frota "]
["Faixa etária","Anos","Ano 0",1,{"$f":"D49+1","v":2},{"$f":"E49+1","v":3},4,5,6,7,{"$f":"J49+1","v":8},9,{"$f":"L49+1","v":10},{"$f":"M49+1","v":11}]
["0 - 1",{"$f":"VALUE(LEFT(A50))","v":0},{"$f":"C12","v":14},null,{"$f":"E12","v":0},0,0,0,0,0,0,0,0,{"$f":"N29","v":0}]
["1 - 2",1,0,null,{"$f":"C50+E13-E30","v":14},{"$f":"E50+F13-F30","v":0},0,0,0,0,0,0,0,0]
["2 - 3",2,0,null,0,14,0,0,0,0,0,0,0,0]
["3 - 4",3,0,null,0,0,14,0,0,0,0,0,0,0]
["4 - 5",4,0,null,0,0,0,14,0,0,0,0,0,0]
["5 - 6",5,0,null,0,0,0,0,14,0,0,0,0,0]
["6 - 7",6,0,null,0,0,0,0,0,14,0,0,0,0]
["7 - 8",7,0,null,0,0,0,0,0,0,14,0,0,0]
["8 - 9",8,0,null,0,0,0,0,0,0,0,14,0,0]
["9 - 10",9,0,null,0,0,0,0,0,0,0,0,14,0]
["Mais que 10",10,0,null,{"$f":"C59+E22-E39+C60","v":0},{"$f":"E59+F22-F39+E60","v":0},0,0,0,0,0,0,0,14]
["Total",null,{"$f":"SUM(C50:C60)","v":14},null,{"$f":"SUM(E50:E60)","v":14},14,14,14,14,14,14,14,14,{"$f":"SUM(N50:N60)","v":14},null,"Soma de investimentos",null,null,{"$f":"SUM(C25:N25)","v":{"$error":"#DIV/0!"}}]
[null,null,null,null,null,null,null,null,null,null,null,null,null,null,null,"Soma depreciação fiscal",null,null,{"$f":"SUM(D64:N64)","v":{"$error":"#DIV/0!"}}]
["Depreciação (R$)",null,null,{"$f":"SUMPRODUCT(C50:C60,Q12:Q22)*G9","v":0},{"$f":"SUMPRODUCT(E50:E60,Q12:Q22)*G9","v":0},{"$f":"SUMPRODUCT(F50:F60,Q12:Q22)*G9","v":0},{"$f":"SUMPRODUCT(G50:G60,Q12:Q22)*G9","v":0},{"$f":"SUMPRODUCT(H50:H60,Q12:Q22)*G9","v":0},{"$f":"SUMPRODUCT(I50:I60,Q12:Q22)*G9","v":0},{"$f":"SUMPRODUCT(J50:J60,Q12:Q22)*G9","v":0},{"$f":"SUMPRODUCT(K50:K60,Q12:Q22)*G9","v":0},{"$f":"SUMPRODUCT(L50:L60,Q12:Q22)*G9","v":0},{"$f":"SUMPRODUCT(M50:M60,Q12:Q22)*G9","v":0},null,null,"Soma venda",null,null,{"$f":"SUM(E42:N42)","v":{"$error":"#DIV/0!"}}]
["Depreciação (R$) real",null,null,{"$f":"SUMPRODUCT(C50:C60,P12:P22)*G9","v":{"$error":"#DIV/0!"}},{"$f":"SUMPRODUCT(E50:E60,P12:P22)*G9","v":{"$error":"#DIV/0!"}},{"$f":"SUMPRODUCT(F50:F60,P12:P22)*G9","v":{"$error":"#DIV/0!"}},{"$f":"SUMPRODUCT(G50:G60,P12:P22)*G9","v":{"$error":"#DIV/0!"}},{"$f":"SUMPRODUCT(H50:H60,P12:P22)*G9","v":{"$error":"#DIV/0!"}},{"$f":"SUMPRODUCT(I50:I60,P12:P22)*G9","v":{"$error":"#DIV/0!"}},{"$f":"SUMPRODUCT(J50:J60,P12:P22)*G9","v":{"$error":"#DIV/0!"}},{"$f":"SUMPRODUCT(K50:K60,P12:P22)*G9","v":{"$error":"#DIV/0!"}},{"$f":"SUMPRODUCT(L50:L60,P12:P22)*G9","v":{"$error":"#DIV/0!"}},{"$f":"SUMPRODUCT(M50:M60,P12:P22)*G9","v":{"$error":"#DIV/0!"}},null,null,"Conferência",null,null,{"$f":"IF(ROUND(S61-S62-S63,2)=0,\"ok\",\"erro\")","v":{"$error":"#DIV/0!"}}]
[]
[{"$f":"\"5.2 \"&'B. Dados de entrada'!E9","v":"5.2 Midiônibus II"}]
[null,null,null,null,"Preço do ônibus 0km sem pneus",null,{"$f":"'B. Dados de entrada'!E19","v":0}]
["5.2.1. Quadro de frota e aquisições"]
["Faixa etária","Anos","Ano 0",1,{"$f":"D69+1","v":2},{"$f":"E69+1","v":3},4,5,6,7,{"$f":"J69+1","v":8},9,{"$f":"L69+1","v":10},{"$f":"M69+1","v":11},null,"Fat. Dep.","Fat. Dep. Fiscal","% do valor do veíc."]
["0 - 1",{"$f":"VALUE(LEFT(A70))","v":0},{"$f":"'B. Dados de entrada'!E70","v":11},null,null,null,null,null,null,null,null,null,null,null,null,{"$f":"'B. Dados de entrada'!D162","v":{"$error":"#DIV/0!"}},0.25,1]
["1 - 2",1,0,null,null,null,null,null,null,null,null,null,null,null,null,{"$f":"'B. Dados de entrada'!D163","v":0},0.25,{"$f":"IF(P70=\"\",\"\",R70-P70)","v":{"$error":"#DIV/0!"}}]
["2 - 3",2,0,null,null,null,null,null,null,null,null,null,null,null,null,{"$f":"'B. Dados de entrada'!D164","v":0},0.25,{"$error":"#DIV/0!"}]
["3 - 4",3,0,null,null,null,null,null,null,null,null,null,null,null,null,{"$f":"'B. Dados de entrada'!D165","v":0},0.25,{"$error":"#DIV/0!"}]
["4 - 5",4,0,null,null,null,null,null,null,null,null,null,null,null,null,{"$f":"'B. Dados de entrada'!D166","v":0},null,{"$error":"#DIV/0!"}]
["5 - 6",5,0,null,null,null,null,null,null,null,null,null,null,null,null,{"$f":"'B. Dados de entrada'!D167","v":0},null,{"$error":"#DIV/0!"}]
["6 - 7",6,0,null,null,null,null,null,null,null,null,null,null,null,null,{"$f":"'B. Dados de entrada'!D168","v":0},null,{"$error":"#DIV/0!"}]
["7 - 8",7,0,null,null,null,null,null,null,null,null,null,null,null,null,{"$f":"'B. Dados de entrada'!D169","v":0},null,{"$error":"#DIV/0!"}]
["8 - 9",8,0,null,null,null,null,null,null,null,null,null,null,null,null,{"$f":"'B. Dados de entrada'!D170","v":0},null,{"$error":"#DIV/0!"}]
["9 - 10",9,0,null,null,null,null,null,null,null,null,null,null,null,null,{"$f":"'B. Dados de entrada'!D171","v":0},null,{"$error":"#DIV/0!"}]
["Mais que 10",10,0,null,null,null,null,null,null,null,null,null,null,null,null,{"$f":"'B. Dados de entrada'!D172","v":0},null,{"$error":"#DIV/0!"}]
["Total",null,{"$f":"SUM(C70:C80)","v":11},null,{"$f":"SUM(E70:E80)","v":0},{"$f":"SUM(F70:F80)","v":0},0,0,0,0,0,0,0]
[]
["Valor do investimento (R$)",null,{"$f":"SUMPRODUCT(C70:C80,R70:R80)*G67","v":{"$error":"#DIV/0!"}},null,{"$f":"SUMPRODUCT(E70:E80,R70:R80)*G67","v":{"$error":"#DIV/0!"}},{"$f":"SUMPRODUCT(F70:F80,R70:R80)*G67","v":{"$error":"#DIV/0!"}},{"$f":"SUMPRODUCT(G70:G80,R70:R80)*G67","v":{"$error":"#DIV/0!"}},{"$f":"SUMPRODUCT(H70:H80,R70:R80)*G67","v":{"$error":"#DIV/0!"}},{"$f":"SUMPRODUCT(I70:I80,R70:R80)*G67","v":{"$error":"#DIV/0!"}},{"$f":"SUMPRODUCT(J70:J80,R70:R80)*G67","v":{"$error":"#DIV/0!"}},{"$f":"SUMPRODUCT(K70:K80,R70:R80)*G67","v":{"$error":"#DIV/0!"}},{"$f":"SUMPRODUCT(L70:L80,R70:R80)*G67","v":{"$error":"#DIV/0!"}},{"$f":"SUMPRODUCT(M70:M80,R70:R80)*G67","v":{"$error":"#DIV/0!"}}]
[]
["5.2.2. Venda"]
["Faixa etária","Anos","Ano 0",1,{"$f":"D86+1","v":2},{"$f":"E86+1","v":3},4,5,6,7,{"$f":"J86+1","v":8},9,{"$f":"L86+1","v":10},{"$f":"M86+1","v":11}]
["0 - 1",{"$f":"VALUE(LEFT(A87))","v":0}]
["1 - 2",1,null,null,null,null,null,null,null,null,null,null,null,{"$f":"M108","v":0}]
["2 - 3",2,null,null,null,null,null,null,null,null,null,null,null,{"$f":"M109","v":0}]
["3 - 4",3,null,null,null,null,null,null,null,null,null,null,null,0]
["4 - 5",4,null,null,null,null,null,null,null,null,null,null,null,0]
["5 - 6",5,null,null,null,null,null,null,null,null,null,null,null,0]
["6 - 7",6,null,null,null,null,null,null,null,null,null,null,null,0]
["7 - 8",7,null,null,null,null,null,null,null,null,null,null,null,0]
["8 - 9",8,null,null,null,null,null,null,null,null,null,null,null,0]
["9 - 10",9,null,null,null,null,null,null,null,null,null,null,null,0]
["Mais que 10",10,null,null,null,{"$f":"IF(C118<>0,C118,0)","v":0},0,{"$f":"IF(F118<>0,F118,0)","v":0},0,{"$f":"IF(H118<>0,H118,0)","v":0},0,{"$f":"IF(J118<>0,J118,0)","v":0},0,{"$f":"M117+M118","v":11}]
["Total",null,{"$f":"SUM(C87:C97)","v":0},null,0,0,0,0,0,0,0,0,0,11]
[]
["Valor da venda bruta (R$)",null,null,null,{"$f":"SUMPRODUCT(E87:E97,R70:R80)*G67","v":{"$error":"#DIV/0!"}},{"$f":"SUMPRODUCT(F87:F97,R70:R80)*G67","v":{"$error":"#DIV/0!"}},{"$f":"SUMPRODUCT(G87:G97,R70:R80)*G67","v":{"$error":"#DIV/0!"}},{"$f":"SUMPRODUCT(H87:H97,R70:R80)*G67","v":{"$error":"#DIV/0!"}},{"$f":"SUMPRODUCT(I87:I97,R70:R80)*G67","v":{"$error":"#DIV/0!"}},{"$f":"SUMPRODUCT(J87:J97,R70:R80)*G67","v":{"$error":"#DIV/0!"}},{"$f":"SUMPRODUCT(K87:K97,R70:R80)*G67","v":{"$error":"#DIV/0!"}},{"$f":"SUMPRODUCT(L87:L97,R70:R80)*G67","v":{"$error":"#DIV/0!"}},{"$f":"SUMPRODUCT(M87:M97,R70:R80)*G67","v":{"$error":"#DIV/0!"}},{"$f":"SUMPRODUCT(N87:N97,R70:R80)*G67","v":{"$error":"#DIV/0!"}}]
["Valor da venda tributado (R$)",null,null,null,{"$f":"E100-SUMPRODUCT(E87:E90,Q70:Q73)*G67","v":{"$error":"#DIV/0!"}},{"$f":"F100-SUMPRODUCT(F87:F90,Q70:Q73)*G67","v":{"$error":"#DIV/0!"}},{"$f":"G100-SUMPRODUCT(G87:G90,Q70:Q73)*G67","v":{"$error":"#DIV/0!"}},{"$f":"H100-SUMPRODUCT(H87:H90,Q70:Q73)*G67","v":{"$error":"#DIV/0!"}},{"$f":"I100-SUMPRODUCT(I87:I90,Q70:Q73)*G67","v":{"$error":"#DIV/0!"}},{"$f":"J100-SUMPRODUCT(J87:J90,Q70:Q73)*G67","v":{"$error":"#DIV/0!"}},{"$f":"K100-SUMPRODUCT(K87:K90,Q70:Q73)*G67","v":{"$error":"#DIV/0!"}},{"$f":"L100-SUMPRODUCT(L87:L90,Q70:Q73)*G67","v":{"$error":"#DIV/0!"}},{"$f":"M100-SUMPRODUCT(M87:M90,Q70:Q73)*G67","v":{"$error":"#DIV/0!"}},{"$f":"N100-SUMPRODUCT(N87:N90,Q70:Q73)*G67","v":{"$error":"#DIV/0!"}}]
["Valor da venda não tributado (R$)",null,null,null,{"$f":"E100-E101","v":{"$error":"#DIV/0!"}},{"$f":"F100-F101","v":{"$error":"#DIV/0!"}},{"$f":"G100-G101","v":{"$error":"#DIV/0!"}},{"$f":"H100-H101","v":{"$error":"#DIV/0!"}},{"$f":"I100-I101","v":{"$error":"#DIV/0!"}},{"$f":"J100-J101","v":{"$error":"#DIV/0!"}},{"$f":"K100-K101","v":{"$error":"#DIV/0!"}},{"$f":"L100-L101","v":{"$error":"#DIV/0!"}},{"$f":"M100-M101","v":{"$error":"#DIV/0!"}},{"$f":"N100-N101","v":{"$error":"#DIV/0!"}}]
["Imposto sobre o lucro da venda (R$)",null,null,null,{"$f":"E101*34%","v":{"$error":"#DIV/0!"}},{"$error":"#DIV/0!"},{"$error":"#DIV/0!"},{"$error":"#DIV/0!"},{"$error":"#DIV/0!"},{"$error":"#DIV/0!"},{"$f":"K101*34%","v":{"$error":"#DIV/0!"}},{"$error":"#DIV/0!"},{"$error":"#DIV/0!"},{"$error":"#DIV/0!"}]
["Valor da venda líquida (R$)",null,null,null,{"$f":"E100-E103","v":{"$error":"#DIV/0!"}},{"$error":"#DIV/0!"},{"$error":"#DIV/0!"},{"$error":"#DIV/0!"},{"$error":"#DIV/0!"},{"$error":"#DIV/0!"},{"$error":"#DIV/0!"},{"$error":"#DIV/0!"},{"$error":"#DIV/0!"},{"$error":"#DIV/0!"}]
[]
["5.2.3 Posição da frota "]
["Faixa etária","Anos","Ano 0",1,{"$f":"D107+1","v":2},{"$f":"E107+1","v":3},4,5,6,7,{"$f":"J107+1","v":8},9,{"$f":"L107+1","v":10},{"$f":"M107+1","v":11}]
["0 - 1",{"$f":"VALUE(LEFT(A108))","v":0},{"$f":"C70","v":11},null,{"$f":"E70","v":0},0,0,0,0,0,0,0,0,{"$f":"N87","v":0}]
["1 - 2",1,0,null,{"$f":"C108+E71-E88","v":11},{"$f":"E108+F71-F88","v":0},0,0,0,0,0,0,0,0]
["2 - 3",2,0,null,0,11,0,0,0,0,0,0,0,0]
["3 - 4",3,0,null,0,0,11,0,0,0,0,0,0,0]
["4 - 5",4,0,null,0,0,0,11,0,0,0,0,0,0]
["5 - 6",5,0,null,0,0,0,0,11,0,0,0,0,0]
["6 - 7",6,0,null,0,0,0,0,0,11,0,0,0,0]
["7 - 8",7,0,null,0,0,0,0,0,0,11,0,0,0]
["8 - 9",8,0,null,0,0,0,0,0,0,0,11,0,0]
["9 - 10",9,0,null,0,0,0,0,0,0,0,0,11,0]
["Mais que 10",10,0,null,{"$f":"C117+E80-E97+C118","v":0},{"$f":"E117+F80-F97+E118","v":0},0,0,0,0,0,0,0,11]
["Total",null,{"$f":"SUM(C108:C118)","v":11},null,11,11,11,11,11,11,11,11,11,11,null,"Soma de investimentos",null,null,{"$f":"SUM(C83:N83)","v":{"$error":"#DIV/0!"}}]
[null,null,null,null,null,null,null,null,null,null,null,null,null,null,null,"Soma depreciação fiscal",null,null,{"$f":"SUM(D122:N122)","v":{"$error":"#DIV/0!"}}]
["Depreciação (R$)",null,null,{"$f":"SUMPRODUCT(C108:C118,Q70:Q80)*G67","v":0},{"$f":"SUMPRODUCT(E108:E118,Q70:Q80)*G67","v":0},{"$f":"SUMPRODUCT(F108:F118,Q70:Q80)*G67","v":0},{"$f":"SUMPRODUCT(G108:G118,Q70:Q80)*G67","v":0},{"$f":"SUMPRODUCT(H108:H118,Q70:Q80)*G67","v":0},{"$f":"SUMPRODUCT(I108:I118,Q70:Q80)*G67","v":0},{"$f":"SUMPRODUCT(J108:J118,Q70:Q80)*G67","v":0},{"$f":"SUMPRODUCT(K108:K118,Q70:Q80)*G67","v":0},{"$f":"SUMPRODUCT(L108:L118,Q70:Q80)*G67","v":0},{"$f":"SUMPRODUCT(M108:M118,Q70:Q80)*G67","v":0},null,null,"Soma venda",null,null,{"$f":"SUM(E100:N100)","v":{"$error":"#DIV/0!"}}]
["Depreciação (R$) real",null,null,{"$f":"SUMPRODUCT(C108:C118,P70:P80)*G67","v":{"$error":"#DIV/0!"}},{"$f":"SUMPRODUCT(E108:E118,P70:P80)*G67","v":{"$error":"#DIV/0!"}},{"$f":"SUMPRODUCT(F108:F118,P70:P80)*G67","v":{"$error":"#DIV/0!"}},{"$f":"SUMPRODUCT(G108:G118,P70:P80)*G67","v":{"$error":"#DIV/0!"}},{"$f":"SUMPRODUCT(H108:H118,P70:P80)*G67","v":{"$error":"#DIV/0!"}},{"$f":"SUMPRODUCT(I108:I118,P70:P80)*G67","v":{"$error":"#DIV/0!"}},{"$f":"SUMPRODUCT(J108:J118,P70:P80)*G67","v":{"$error":"#DIV/0!"}},{"$f":"SUMPRODUCT(K108:K118,P70:P80)*G67","v":{"$error":"#DIV/0!"}},{"$f":"SUMPRODUCT(L108:L118,P70:P80)*G67","v":{"$error":"#DIV/0!"}},{"$f":"SUMPRODUCT(M108:M118,P70:P80)*G67","v":{"$error":"#DIV/0!"}},null,null,"Conferência",null,null,{"$f":"IF(ROUND(S119-S120-S121,2)=0,\"ok\",\"erro\")","v":{"$error":"#DIV/0!"}}]
[]
["5.3 Totais"]
[]
["5.3.1 Quadro de frota e aquisições total"]
["Faixa etária","Anos","Ano 0",1,{"$f":"D127+1","v":2},{"$f":"E127+1","v":3},4,5,6,7,{"$f":"J127+1","v":8},9,{"$f":"L127+1","v":10},{"$f":"M127+1","v":11}]
["0 - 1",{"$f":"VALUE(LEFT(A128))","v":0},{"$f":"C70+C12","v":25},null,{"$f":"E70+E12","v":0},0,0,0,0,0,0,0,0]
["1 - 2",1,0,null,{"$f":"E71+E13","v":0},0,0,0,0,0,0,0,0]
["2 - 3",2,0,null,{"$f":"E72+E14","v":0},0,0,0,0,0,0,0,0]
["3 - 4",3,0,null,{"$f":"E73+E15","v":0},0,0,0,0,0,0,0,0]
["4 - 5",4,0,null,{"$f":"E74+E16","v":0},0,0,0,0,0,0,0,0]
["5 - 6",5,0,null,{"$f":"E75+E17","v":0},0,0,0,0,0,0,0,0]
["6 - 7",6,0,null,{"$f":"E76+E18","v":0},0,0,0,0,0,0,0,0]
["7 - 8",7,0,null,{"$f":"E77+E19","v":0},0,0,0,0,0,0,0,0]
["8 - 9",8,0,null,{"$f":"E78+E20","v":0},0,0,0,0,0,0,0,0]
["9 - 10",9,0,null,{"$f":"E79+E21","v":0},0,0,0,0,0,0,0,0]
["Mais que 10",10,0,null,{"$f":"E80+E22","v":0},0,0,0,0,0,0,0,0]
["Total",null,{"$f":"SUM(C128:C138)","v":25},null,{"$f":"SUM(E128:E138)","v":0},{"$f":"SUM(F128:F138)","v":0},0,0,0,0,0,0,0]
[]
["5.3.2. Total de vendas"]
["Faixa etária","Anos","Ano 0",1,{"$f":"D142+1","v":2},{"$f":"E142+1","v":3},4,5,6,7,{"$f":"J142+1","v":8},9,{"$f":"L142+1","v":10},{"$f":"M142+1","v":11}]
["0 - 1",{"$f":"VALUE(LEFT(A143))","v":0},{"$f":"C87+C29","v":0},null,{"$f":"E87+E29","v":0},0,0,0,0,0,0,0,0,0]
["1 - 2",1,0,null,{"$f":"E88+E30","v":0},0,0,0,0,0,0,0,0,0]
["2 - 3",2,0,null,{"$f":"E89+E31","v":0},0,0,0,0,0,0,0,0,0]
["3 - 4",3,0,null,{"$f":"E90+E32","v":0},0,0,0,0,0,0,0,0,0]
["4 - 5",4,0,null,{"$f":"E91+E33","v":0},0,0,0,0,0,0,0,0,0]
["5 - 6",5,0,null,{"$f":"E92+E34","v":0},0,0,0,0,0,0,0,0,0]
["6 - 7",6,0,null,{"$f":"E93+E35","v":0},0,0,0,0,0,0,0,0,0]
["7 - 8",7,0,null,{"$f":"E94+E36","v":0},0,0,0,0,0,0,0,0,0]
["8 - 9",8,0,null,{"$f":"E95+E37","v":0},0,0,0,0,0,0,0,0,0]
["9 - 10",9,0,null,{"$f":"E96+E38","v":0},0,0,0,0,0,0,0,0,0]
["Mais que 10",10,0,null,{"$f":"E97+E39","v":0},0,0,0,0,0,0,0,0,25]
["Total",null,{"$f":"SUM(C143:C153)","v":0},null,0,0,0,0,0,0,0,0,0,25]
[]
["5.3.3 Posição da frota "]
["Faixa etária","Anos","Ano 0",1,{"$f":"D157+1","v":2},{"$f":"E157+1","v":3},4,5,6,7,{"$f":"J157+1","v":8},9,{"$f":"L157+1","v":10},{"$f":"M157+1","v":11}]
["0 - 1",{"$f":"VALUE(LEFT(A158))","v":0},null,{"$f":"C108+C50","v":25},{"$f":"E108+E50","v":0},0,0,0,0,0,0,0,0,0]
["1 - 2",1,null,0,{"$f":"E109+E51","v":25},0,0,0,0,0,0,0,0,0]
["2 - 3",2,null,0,{"$f":"E110+E52","v":0},25,0,0,0,0,0,0,0,0]
["3 - 4",3,null,0,{"$f":"E111+E53","v":0},0,25,0,0,0,0,0,0,0]
["4 - 5",4,null,0,{"$f":"E112+E54","v":0},0,0,25,0,0,0,0,0,0]
["5 - 6",5,null,0,{"$f":"E113+E55","v":0},0,0,0,25,0,0,0,0,0]
["6 - 7",6,null,0,{"$f":"E114+E56","v":0},0,0,0,0,25,0,0,0,0]
["7 - 8",7,null,0,{"$f":"E115+E57","v":0},0,0,0,0,0,25,0,0,0]
["8 - 9",8,null,0,{"$f":"E116+E58","v":0},0,0,0,0,0,0,25,0,0]
["9 - 10",9,null,0,{"$f":"E117+E59","v":0},0,0,0,0,0,0,0,25,0]
["Mais que 10",10,null,0,{"$f":"E118+E60","v":0},0,0,0,0,0,0,0,0,25]
["Total",null,null,{"$f":"SUM(D158:D168)","v":25},{"$f":"SUM(E158:E168)","v":25},25,25,25,25,25,25,25,25,25]
["Idade média",null,null,{"$f":"SUMPRODUCT(D158:D168,$B$158:$B$168)/D169","v":0},{"$f":"SUMPRODUCT(E158:E168,$B$158:$B$168)/E169","v":1},2,3,4,5,6,7,8,9,10]
[]
["5.3.4 Valores consolidados dos investimentos em frota"]
[]
[null,null,"Ano 0",1,{"$f":"D174+1","v":2},{"$f":"E174+1","v":3},4,5,6,7,{"$f":"J174+1","v":8},9,{"$f":"L174+1","v":10},{"$f":"M174+1","v":11}]
["Investimentos (R$)",null,{"$f":"C25+C83","v":{"$error":"#DIV/0!"}},0,{"$error":"#DIV/0!"},{"$error":"#DIV/0!"},{"$error":"#DIV/0!"},{"$error":"#DIV/0!"},{"$error":"#DIV/0!"},{"$error":"#DIV/0!"},{"$error":"#DIV/0!"},{"$error":"#DIV/0!"},{"$error":"#DIV/0!"}]
["Depreciação (R$)",null,null,{"$f":"D63+D121","v":0},0,0,0,0,0,0,0,0,0]
["Depreciação (R$) real",null,null,{"$f":"D64+D122","v":{"$error":"#DIV/0!"}},{"$error":"#DIV/0!"},{"$error":"#DIV/0!"},{"$error":"#DIV/0!"},{"$error":"#DIV/0!"},{"$error":"#DIV/0!"},{"$error":"#DIV/0!"},{"$error":"#DIV/0!"},{"$error":"#DIV/0!"},{"$error":"#DIV/0!"}]
["Venda bruta (R$)",null,null,{"$f":"D42+D100","v":0},{"$f":"E42+E100","v":{"$error":"#DIV/0!"}},{"$f":"F42+F100","v":{"$error":"#DIV/0!"}},{"$error":"#DIV/0!"},{"$error":"#DIV/0!"},{"$error":"#DIV/0!"},{"$error":"#DIV/0!"},{"$error":"#DIV/0!"},{"$error":"#DIV/0!"},{"$error":"#DIV/0!"},{"$error":"#DIV/0!"}]
["Impostos sobre a venda (R$)",null,null,{"$f":"D45+D103","v":0},{"$error":"#DIV/0!"},{"$error":"#DIV/0!"},{"$error":"#DIV/0!"},{"$error":"#DIV/0!"},{"$error":"#DIV/0!"},{"$error":"#DIV/0!"},{"$error":"#DIV/0!"},{"$error":"#DIV/0!"},{"$error":"#DIV/0!"},{"$error":"#DIV/0!"}]
["Venda líquida (R$)",null,null,{"$f":"D104+D46","v":0},{"$f":"E104+E46","v":{"$error":"#DIV/0!"}},{"$f":"F104+F46","v":{"$error":"#DIV/0!"}},{"$error":"#DIV/0!"},{"$error":"#DIV/0!"},{"$error":"#DIV/0!"},{"$error":"#DIV/0!"},{"$error":"#DIV/0!"},{"$error":"#DIV/0!"},{"$error":"#DIV/0!"},{"$error":"#DIV/0!"}]
[]
[]
["6. Investimentos em infraestrutura e sistemas"]
[]
["6.1 Instalações"]
[]
["Vida útil (anos)",null,{"$f":"'B. Dados de entrada'!C111","v":0}]
["Valor residual",null,{"$f":"'B. Dados de entrada'!C112","v":0}]
["Valor das edificações",null,{"$f":"'B. Dados de entrada'!C43","v":0}]
["Depreciação anual",null,{"$f":"C189*(1-C188)/C187","v":{"$error":"#DIV/0!"}}]
["Valor ao final da concessão",null,{"$f":"C189-10*C190","v":{"$error":"#DIV/0!"}}]
[]
["6.2 Equipamentos"]
[]
["Vida útil (anos)",null,{"$f":"'B. Dados de entrada'!C113","v":0}]
["Valor residual",null,{"$f":"'B. Dados de entrada'!C114","v":0}]
["Valor dos equipamentos",null,{"$f":"'B. Dados de entrada'!C44","v":0}]
["Depreciação anual",null,{"$f":"C197*(1-C196)/C195","v":{"$error":"#DIV/0!"}}]
["Valor ao final da concessão",null,{"$f":"C197-10*C198","v":{"$error":"#DIV/0!"}}]
[]
["6.3 Veículos de apoio"]
[]
["Vida útil (anos)",null,{"$f":"'B. Dados de entrada'!C115","v":0}]
["Valor residual",null,{"$f":"'B. Dados de entrada'!C116","v":0}]
["Quantidade"]
["Valor unitário dos veículos",null,{"$f":"'B. Dados de entrada'!C45","v":0}]
["Depreciação anual",null,{"$f":"C206*C205*(1-C204)/C203","v":{"$error":"#DIV/0!"}}]
["Valor ao final da vida útil",null,{"$f":"C206-C203*C207","v":{"$error":"#DIV/0!"}}]
[]
["6.4 Sistemas"]
[]
["Vida útil (anos)",null,{"$f":"'B. Dados de entrada'!C117","v":0}]
["Valor residual",null,{"$f":"'B. Dados de entrada'!C118","v":0}]
["Valor unitário por veículo",null,{"$f":"'B. Dados de entrada'!C53","v":0}]
["Frota",null,{"$f":"'B. Dados de entrada'!D59+'B. Dados de entrada'!E59","v":25}]
["Valor",null,{"$f":"C215*C214","v":0}]
["Depreciação anual",null,{"$f":"C216*(1-C213)/C212","v":{"$error":"#DIV/0!"}}]
["Valor ao final da vida útil",null,{"$f":"C216-C217*C212","v":{"$error":"#DIV/0!"}}]
[]
["6.5 Investimentos consolidados"]
[]
[null,null,"Ano 0",1,{"$f":"D222+1","v":2},{"$f":"E222+1","v":3},4,5,6,7,{"$f":"J222+1","v":8},{"$f":"K222+1","v":9},{"$f":"L222+1","v":10},{"$f":"M222+1","v":11}]
["Terreno da garagem",null,{"$f":"'B. Dados de entrada'!C42","v":0}]
["Infraestrutura da garagem",null,{"$f":"C189","v":0}]
["Equipamentos da garagem",null,{"$f":"C197","v":0}]
["Veículos de apoio",null,{"$f":"C206*C205","v":0},null,null,null,null,null,{"$f":"C226*C205","v":0}]
["Sistemas tecnológicos embarcados",null,{"$f":"C216","v":0},null,null,null,null,null,{"$f":"C227","v":0}]
["Total dos investimentos",null,{"$f":"SUM(C223:C227)","v":0},{"$f":"SUM(D223:D227)","v":0},{"$f":"SUM(E223:E227)","v":0},0,0,0,0,0,0,0,0]
[]
["6.6 Depreciação"]
[]
[null,null,"Ano 0",1,{"$f":"D232+1","v":2},{"$f":"E232+1","v":3},4,5,6,7,{"$f":"J232+1","v":8},{"$f":"K232+1","v":9},{"$f":"L232+1","v":10},{"$f":"M232+1","v":11}]
["Terreno da garagem"]
["Infraestrutura da garagem",null,null,{"$f":"$C$190","v":{"$error":"#DIV/0!"}},{"$f":"$C$190","v":{"$error":"#DIV/0!"}},{"$error":"#DIV/0!"},{"$error":"#DIV/0!"},{"$error":"#DIV/0!"},{"$error":"#DIV/0!"},{"$error":"#DIV/0!"},{"$error":"#DIV/0!"},{"$error":"#DIV/0!"},{"$error":"#DIV/0!"}]
["Equipamentos da garagem",null,null,{"$f":"$C$198","v":{"$error":"#DIV/0!"}},{"$f":"$C$198","v":{"$error":"#DIV/0!"}},{"$error":"#DIV/0!"},{"$error":"#DIV/0!"},{"$error":"#DIV/0!"},{"$error":"#DIV/0!"},{"$error":"#DIV/0!"},{"$error":"#DIV/0!"},{"$error":"#DIV/0!"},{"$error":"#DIV/0!"}]
["Veículos de apoio",null,null,{"$f":"$C$207","v":{"$error":"#DIV/0!"}},{"$f":"$C$207","v":{"$error":"#DIV/0!"}},{"$error":"#DIV/0!"},{"$error":"#DIV/0!"},{"$error":"#DIV/0!"},{"$error":"#DIV/0!"},{"$error":"#DIV/0!"},{"$error":"#DIV/0!"},{"$error":"#DIV/0!"},{"$error":"#DIV/0!"}]
["Sistemas tecnológicos embarcados",null,null,{"$f":"$C$217","v":{"$error":"#DIV/0!"}},{"$f":"$C$217","v":{"$error":"#DIV/0!"}},{"$error":"#DIV/0!"},{"$error":"#DIV/0!"},{"$error":"#DIV/0!"},{"$error":"#DIV/0!"},{"$error":"#DIV/0!"},{"$error":"#DIV/0!"},{"$error":"#DIV/0!"},{"$error":"#DIV/0!"}]
["Valor total",null,null,{"$f":"SUM(D233:D237)","v":{"$error":"#DIV/0!"}},{"$f":"SUM(E233:E237)","v":{"$error":"#DIV/0!"}},{"$f":"SUM(F233:F237)","v":{"$error":"#DIV/0!"}},{"$f":"SUM(G233:G237)","v":{"$error":"#DIV/0!"}},{"$f":"SUM(H233:H237)","v":{"$error":"#DIV/0!"}},{"$f":"SUM(I233:I237)","v":{"$error":"#DIV/0!"}},{"$f":"SUM(J233:J237)","v":{"$error":"#DIV/0!"}},{"$f":"SUM(K233:K237)","v":{"$error":"#DIV/0!"}},{"$f":"SUM(L233:L237)","v":{"$error":"#DIV/0!"}},{"$f":"SUM(M233:M237)","v":{"$error":"#DIV/0!"}}]
[]
["6.7 Venda"]
[]
[null,null,"Ano 0",1,{"$f":"D242+1","v":2},{"$f":"E242+1","v":3},4,5,6,7,{"$f":"J242+1","v":8},{"$f":"K242+1","v":9},{"$f":"L242+1","v":10},{"$f":"M242+1","v":11}]
["Terreno da garagem",null,null,null,null,null,null,null,null,null,null,null,null,{"$f":"C223-SUM(D233:M233)","v":0}]
["Infraestrutura da garagem",null,null,null,null,null,null,null,null,null,null,null,null,{"$f":"C224-SUM(D234:M234)","v":{"$error":"#DIV/0!"}}]
["Equipamentos da garagem",null,null,null,null,null,null,null,null,null,null,null,null,{"$f":"C225-SUM(D235:M235)","v":{"$error":"#DIV/0!"}}]
["Veículos de apoio",null,null,null,null,null,null,null,{"$f":"C226-SUM(D236:H236)","v":{"$error":"#DIV/0!"}},null,null,null,null,{"$f":"I226-SUM(I236:M236)","v":{"$error":"#DIV/0!"}}]
["Sistemas tecnológicos embarcados",null,null,null,null,null,null,null,{"$f":"C227-SUM(D237:H237)","v":{"$error":"#DIV/0!"}},null,null,null,null,{"$f":"I227-SUM(I237:M237)","v":{"$error":"#DIV/0!"}}]
["Valor bruto da venda",null,null,{"$f":"SUM(D243:D247)","v":0},{"$f":"SUM(E243:E247)","v":0},{"$f":"SUM(F243:F247)","v":0},{"$f":"SUM(G243:G247)","v":0},{"$f":"SUM(H243:H247)","v":0},{"$f":"SUM(I243:I247)","v":{"$error":"#DIV/0!"}},{"$f":"SUM(J243:J247)","v":0},{"$f":"SUM(K243:K247)","v":0},{"$f":"SUM(L243:L247)","v":0},{"$f":"SUM(M243:M247)","v":0},{"$error":"#DIV/0!"}]
[]
[]
["7. Memória de cálculo dos valores de depreciação para a planilha de composição de custos"]
[]
[null,null,"VPL",1,{"$f":"D253+1","v":2},{"$f":"E253+1","v":3},{"$f":"F253+1","v":4},{"$f":"G253+1","v":5},{"$f":"H253+1","v":6},{"$f":"I253+1","v":7},{"$f":"J253+1","v":8},{"$f":"K253+1","v":9},{"$f":"L253+1","v":10}]
[]
["Depreciação real da frota",null,{"$f":"NPV($B$259,D255:M255)","v":{"$error":"#DIV/0!"}},{"$f":"D177","v":{"$error":"#DIV/0!"}},{"$f":"E177","v":{"$error":"#DIV/0!"}},{"$error":"#DIV/0!"},{"$error":"#DIV/0!"},{"$error":"#DIV/0!"},{"$error":"#DIV/0!"},{"$error":"#DIV/0!"},{"$error":"#DIV/0!"},{"$error":"#DIV/0!"},{"$error":"#DIV/0!"}]
["Depreciação real dos demais ativos",null,{"$f":"NPV($B$259,D256:M256)","v":{"$error":"#DIV/0!"}},{"$f":"D238","v":{"$error":"#DIV/0!"}},{"$f":"E238","v":{"$error":"#DIV/0!"}},{"$error":"#DIV/0!"},{"$error":"#DIV/0!"},{"$error":"#DIV/0!"},{"$error":"#DIV/0!"},{"$error":"#DIV/0!"},{"$error":"#DIV/0!"},{"$error":"#DIV/0!"},{"$error":"#DIV/0!"}]
["Depreciação total",null,{"$f":"SUM(C255:C256)","v":{"$error":"#DIV/0!"}},{"$f":"D255+D256","v":{"$error":"#DIV/0!"}},{"$f":"E255+E256","v":{"$error":"#DIV/0!"}},{"$error":"#DIV/0!"},{"$error":"#DIV/0!"},{"$error":"#DIV/0!"},{"$error":"#DIV/0!"},{"$error":"#DIV/0!"},{"$error":"#DIV/0!"},{"$error":"#DIV/0!"},{"$error":"#DIV/0!"}]
[]
["Taxa de desconto anual",{"$f":"'E. Fluxo de caixa'!B79","v":0}]
[]
["Valor da depreciação mensal",null,{"$f":"C257/10/12","v":{"$error":"#DIV/0!"}}]

{"sheet":"E. Fluxo de caixa","index":4,"n_rows":82,"n_cols":14,"rows_kept":82,"cut":false,"hidden":false,"merged":[]}
[{"$f":"'A. Identificação'!A2&\" - \"&'A. Identificação'!A3","v":"Município de Extrema (MG) - Prefeitura Municipal de Extrema"}]
[{"$f":"'A. Identificação'!A4","v":"Concessão do Sistema de Transporte Público Coletivo de Extrema - STPC-Extrema"}]
[{"$f":"\"Proponente: \"&'A. Identificação'!C9&\" - CNPJ: \"&'A. Identificação'!C11","v":"Proponente:  - CNPJ: "}]
[{"$f":"'A. Identificação'!$A$5","v":"Proposta Comercial"},null,"Apresentação:",{"$f":"'A. Identificação'!C19","v":"00:00:00"}]
[]
["6. Demonstrativo de resultados econômicos e Fluxo de Caixa"]
[]
[null,null,"Ano 0",1,{"$f":"D8+1","v":2},{"$f":"E8+1","v":3},4,5,6,7,{"$f":"J8+1","v":8},{"$f":"K8+1","v":9},{"$f":"L8+1","v":10},{"$f":"M8+1","v":11}]
[]
["6.1 Demonstrativo de Resultados Econômicos"]
[]
["Receitas"]
[]
["Tarifa de remuneração"]
[]
["Passageiros equivalentes",null,null,{"$f":"'B. Dados de entrada'!$C$64*12","v":1459374},{"$f":"'B. Dados de entrada'!$C$64*12","v":1459374},{"$f":"'B. Dados de entrada'!$C$64*12","v":1459374},{"$f":"'B. Dados de entrada'!$C$64*12","v":1459374},{"$f":"'B. Dados de entrada'!$C$64*12","v":1459374},{"$f":"'B. Dados de entrada'!$C$64*12","v":1459374},{"$f":"'B. Dados de entrada'!$C$64*12","v":1459374},{"$f":"'B. Dados de entrada'!$C$64*12","v":1459374},{"$f":"'B. Dados de entrada'!$C$64*12","v":1459374},{"$f":"'B. Dados de entrada'!$C$64*12","v":1459374}]
["Receita bruta",null,null,{"$f":"D18+D19","v":0},{"$f":"E18+E19","v":0},0,0,0,0,0,0,0,0]
["Receita do transporte",null,null,{"$f":"$B$14*D16","v":0},0,0,0,0,0,0,0,0,0]
["Receita acessória",null,null,{"$f":"$B$19","v":0},{"$f":"$B$19","v":0},0,0,0,0,0,0,0,0]
[]
["Deduções da receita bruta",null,null,{"$f":"D22+D23","v":0},{"$f":"E22+E23","v":0},0,0,0,0,0,0,0,0]
["ISS",{"$f":"'B. Dados de entrada'!C122","v":0.02},null,{"$f":"D17*$B$22","v":0},0,0,0,0,0,0,0,0,0]
["CPRB",{"$f":"'B. Dados de entrada'!C121","v":0.02},null,{"$f":"D17*$B$23","v":0},0,0,0,0,0,0,0,0,0]
[]
["Receita Líquida",null,null,{"$f":"D17-D21","v":0},0,0,0,0,0,0,0,0,0]
[]
["Custos"]
[]
["Custos Operacionais",null,null,{"$f":"SUM(D30:D32)","v":{"$error":"#DIV/0!"}},{"$f":"SUM(E30:E32)","v":{"$error":"#DIV/0!"}},{"$error":"#DIV/0!"},{"$error":"#DIV/0!"},{"$error":"#DIV/0!"},{"$error":"#DIV/0!"},{"$error":"#DIV/0!"},{"$error":"#DIV/0!"},{"$error":"#DIV/0!"},{"$error":"#DIV/0!"}]
["Custos Variáveis (R$)",null,null,{"$f":"'C. Mem_calculo'!$D$16*12","v":{"$error":"#DIV/0!"}},{"$f":"'C. Mem_calculo'!$D$16*12","v":{"$error":"#DIV/0!"}},{"$f":"'C. Mem_calculo'!$D$16*12","v":{"$error":"#DIV/0!"}},{"$f":"'C. Mem_calculo'!$D$16*12","v":{"$error":"#DIV/0!"}},{"$f":"'C. Mem_calculo'!$D$16*12","v":{"$error":"#DIV/0!"}},{"$f":"'C. Mem_calculo'!$D$16*12","v":{"$error":"#DIV/0!"}},{"$f":"'C. Mem_calculo'!$D$16*12","v":{"$error":"#DIV/0!"}},{"$f":"'C. Mem_calculo'!$D$16*12","v":{"$error":"#DIV/0!"}},{"$f":"'C. Mem_calculo'!$D$16*12","v":{"$error":"#DIV/0!"}},{"$f":"'C. Mem_calculo'!$D$16*12","v":{"$error":"#DIV/0!"}}]
["Custos com pessoal (R$)",null,null,{"$f":"'C. Mem_calculo'!$D$98*12","v":0},{"$f":"'C. Mem_calculo'!$D$98*12","v":0},{"$f":"'C. Mem_calculo'!$D$98*12","v":0},{"$f":"'C. Mem_calculo'!$D$98*12","v":0},{"$f":"'C. Mem_calculo'!$D$98*12","v":0},{"$f":"'C. Mem_calculo'!$D$98*12","v":0},{"$f":"'C. Mem_calculo'!$D$98*12","v":0},{"$f":"'C. Mem_calculo'!$D$98*12","v":0},{"$f":"'C. Mem_calculo'!$D$98*12","v":0},{"$f":"'C. Mem_calculo'!$D$98*12","v":0}]
["Custos administrativos (R$)",null,null,{"$f":"'C. Mem_calculo'!$D$107*12","v":0},{"$f":"'C. Mem_calculo'!$D$107*12","v":0},{"$f":"'C. Mem_calculo'!$D$107*12","v":0},{"$f":"'C. Mem_calculo'!$D$107*12","v":0},{"$f":"'C. Mem_calculo'!$D$107*12","v":0},{"$f":"'C. Mem_calculo'!$D$107*12","v":0},{"$f":"'C. Mem_calculo'!$D$107*12","v":0},{"$f":"'C. Mem_calculo'!$D$107*12","v":0},{"$f":"'C. Mem_calculo'!$D$107*12","v":0},{"$f":"'C. Mem_calculo'!$D$107*12","v":0}]
[]
["LAJIDA",null,null,{"$f":"D25-D29","v":{"$error":"#DIV/0!"}},{"$f":"E25-E29","v":{"$error":"#DIV/0!"}},{"$error":"#DIV/0!"},{"$error":"#DIV/0!"},{"$error":"#DIV/0!"},{"$error":"#DIV/0!"},{"$error":"#DIV/0!"},{"$error":"#DIV/0!"},{"$error":"#DIV/0!"},{"$f":"M25-M29","v":{"$error":"#DIV/0!"}}]
[null,null,null,{"$f":"D34/D25","v":{"$error":"#DIV/0!"}},{"$f":"E34/E25","v":{"$error":"#DIV/0!"}},{"$error":"#DIV/0!"},{"$error":"#DIV/0!"},{"$error":"#DIV/0!"},{"$error":"#DIV/0!"},{"$error":"#DIV/0!"},{"$error":"#DIV/0!"},{"$error":"#DIV/0!"},{"$error":"#DIV/0!"}]
[]
["Depreciação",null,null,{"$f":"D38+D39","v":{"$error":"#DIV/0!"}},{"$f":"E38+E39","v":{"$error":"#DIV/0!"}},{"$error":"#DIV/0!"},{"$error":"#DIV/0!"},{"$error":"#DIV/0!"},{"$error":"#DIV/0!"},{"$error":"#DIV/0!"},{"$error":"#DIV/0!"},{"$error":"#DIV/0!"},{"$error":"#DIV/0!"}]
["Frota",null,null,{"$f":"'D. Capital'!D176","v":0},{"$f":"'D. Capital'!E176","v":0},{"$f":"'D. Capital'!F176","v":0},{"$f":"'D. Capital'!G176","v":0},{"$f":"'D. Capital'!H176","v":0},{"$f":"'D. Capital'!I176","v":0},{"$f":"'D. Capital'!J176","v":0},{"$f":"'D. Capital'!K176","v":0},{"$f":"'D. Capital'!L176","v":0},{"$f":"'D. Capital'!M176","v":0}]
["Garagem e Sistemas Tecnológicos",null,null,{"$f":"'D. Capital'!D238","v":{"$error":"#DIV/0!"}},{"$f":"'D. Capital'!E238","v":{"$error":"#DIV/0!"}},{"$f":"'D. Capital'!F238","v":{"$error":"#DIV/0!"}},{"$f":"'D. Capital'!G238","v":{"$error":"#DIV/0!"}},{"$f":"'D. Capital'!H238","v":{"$error":"#DIV/0!"}},{"$f":"'D. Capital'!I238","v":{"$error":"#DIV/0!"}},{"$f":"'D. Capital'!J238","v":{"$error":"#DIV/0!"}},{"$f":"'D. Capital'!K238","v":{"$error":"#DIV/0!"}},{"$f":"'D. Capital'!L238","v":{"$error":"#DIV/0!"}},{"$f":"'D. Capital'!M238","v":{"$error":"#DIV/0!"}}]
[]
["LAJIR",null,null,{"$f":"D34-D37","v":{"$error":"#DIV/0!"}},{"$error":"#DIV/0!"},{"$error":"#DIV/0!"},{"$error":"#DIV/0!"},{"$error":"#DIV/0!"},{"$error":"#DIV/0!"},{"$error":"#DIV/0!"},{"$error":"#DIV/0!"},{"$error":"#DIV/0!"},{"$error":"#DIV/0!"}]
[]
["Impostos",null,null,{"$f":"D44+D45+D46","v":0},{"$f":"E44+E45+E46","v":{"$error":"#DIV/0!"}},{"$error":"#DIV/0!"},{"$error":"#DIV/0!"},{"$error":"#DIV/0!"},{"$error":"#DIV/0!"},{"$error":"#DIV/0!"},{"$error":"#DIV/0!"},{"$error":"#DIV/0!"},{"$error":"#DIV/0!"},{"$error":"#DIV/0!"}]
["IRPJ",0.15,null,{"$f":"D48*$B$44","v":0},{"$f":"E48*$B$44","v":{"$error":"#DIV/0!"}},{"$error":"#DIV/0!"},{"$error":"#DIV/0!"},{"$error":"#DIV/0!"},{"$error":"#DIV/0!"},{"$error":"#DIV/0!"},{"$error":"#DIV/0!"},{"$error":"#DIV/0!"},{"$error":"#DIV/0!"},{"$f":"N48*$B$44","v":{"$error":"#DIV/0!"}}]
["CSLL",0.09,null,{"$f":"D48*$B$45","v":0},{"$f":"E48*$B$45","v":{"$error":"#DIV/0!"}},{"$error":"#DIV/0!"},{"$error":"#DIV/0!"},{"$error":"#DIV/0!"},{"$error":"#DIV/0!"},{"$error":"#DIV/0!"},{"$error":"#DIV/0!"},{"$error":"#DIV/0!"},{"$error":"#DIV/0!"},{"$f":"N48*$B$45","v":{"$error":"#DIV/0!"}}]
["Adicional de IRPJ",0.1,null,{"$f":"IF(D48>12*20000/1000000,(D48-12*20000/1000000)*$B$46,0)","v":0},{"$f":"IF(E48>12*20000/1000000,(E48-12*20000/1000000)*$B$46,0)","v":{"$error":"#DIV/0!"}},{"$error":"#DIV/0!"},{"$error":"#DIV/0!"},{"$error":"#DIV/0!"},{"$error":"#DIV/0!"},{"$error":"#DIV/0!"},{"$error":"#DIV/0!"},{"$error":"#DIV/0!"},{"$error":"#DIV/0!"},{"$f":"IF(N48>12*20000/1000000,(N48-12*20000/1000000)*$B$46,0)","v":{"$error":"#DIV/0!"}}]
["Limite para compensação  de prejuízos anteriores",null,null,{"$f":"IF(C41>0,0.3*C41,0)","v":0},{"$f":"IF(D41>0,0.3*D41,0)","v":{"$error":"#DIV/0!"}},{"$f":"IF(E41>0,0.3*E41,0)","v":{"$error":"#DIV/0!"}},{"$error":"#DIV/0!"},{"$error":"#DIV/0!"},{"$error":"#DIV/0!"},{"$error":"#DIV/0!"},{"$error":"#DIV/0!"},{"$error":"#DIV/0!"},{"$error":"#DIV/0!"},{"$f":"IF(M41>0,0.3*M41,0)","v":{"$error":"#DIV/0!"}}]
["Base de cálculo com compensação",null,null,null,{"$f":"IF(AND(D41>0,D51<0),D41-IF(-E47>D51,E47,-D51),IF(AND(D41>0,D51>0),(D41),0))","v":{"$error":"#DIV/0!"}},{"$f":"IF(AND(E41>0,E51<0),E41-IF(-F47>E51,F47,-E51),IF(AND(E41>0,E51>0),(E41),0))","v":{"$error":"#DIV/0!"}},{"$error":"#DIV/0!"},{"$error":"#DIV/0!"},{"$error":"#DIV/0!"},{"$error":"#DIV/0!"},{"$error":"#DIV/0!"},{"$error":"#DIV/0!"},{"$error":"#DIV/0!"},{"$error":"#DIV/0!"}]
[]
["Lucro líquido sem RPS",null,null,{"$f":"D41-D43","v":{"$error":"#DIV/0!"}},{"$error":"#DIV/0!"},{"$error":"#DIV/0!"},{"$error":"#DIV/0!"},{"$error":"#DIV/0!"},{"$error":"#DIV/0!"},{"$error":"#DIV/0!"},{"$error":"#DIV/0!"},{"$error":"#DIV/0!"},{"$error":"#DIV/0!"},{"$f":"N41-N43","v":{"$error":"#DIV/0!"}}]
["Resultado opeacional acumulado",null,null,{"$f":"D50","v":{"$error":"#DIV/0!"}},{"$f":"D51+E50","v":{"$error":"#DIV/0!"}},{"$f":"E51+F50","v":{"$error":"#DIV/0!"}},{"$error":"#DIV/0!"},{"$error":"#DIV/0!"},{"$error":"#DIV/0!"},{"$error":"#DIV/0!"},{"$error":"#DIV/0!"},{"$error":"#DIV/0!"},{"$error":"#DIV/0!"},{"$error":"#DIV/0!"}]
[]
["RPS",null,null,{"$f":"$B$53*(D29+D37)","v":{"$error":"#DIV/0!"}},{"$error":"#DIV/0!"},{"$error":"#DIV/0!"},{"$error":"#DIV/0!"},{"$error":"#DIV/0!"},{"$error":"#DIV/0!"},{"$error":"#DIV/0!"},{"$error":"#DIV/0!"},{"$error":"#DIV/0!"},{"$error":"#DIV/0!"}]
[]
["Lucro líquido com RPS",null,null,{"$f":"D50+D53","v":{"$error":"#DIV/0!"}},{"$f":"E50+E53","v":{"$error":"#DIV/0!"}},{"$error":"#DIV/0!"},{"$error":"#DIV/0!"},{"$error":"#DIV/0!"},{"$error":"#DIV/0!"},{"$error":"#DIV/0!"},{"$error":"#DIV/0!"},{"$error":"#DIV/0!"},{"$error":"#DIV/0!"},{"$error":"#DIV/0!"}]
[]
[]
["6.2 Fluxo de Caixa"]
[]
["Resultado Operacional",null,null,{"$f":"D55","v":{"$error":"#DIV/0!"}},{"$f":"E55","v":{"$error":"#DIV/0!"}},{"$error":"#DIV/0!"},{"$error":"#DIV/0!"},{"$error":"#DIV/0!"},{"$error":"#DIV/0!"},{"$error":"#DIV/0!"},{"$error":"#DIV/0!"},{"$error":"#DIV/0!"},{"$error":"#DIV/0!"},{"$error":"#DIV/0!"}]
["Valores não desembolsados",null,null,{"$f":"D37","v":{"$error":"#DIV/0!"}},{"$f":"E37","v":{"$error":"#DIV/0!"}},{"$error":"#DIV/0!"},{"$error":"#DIV/0!"},{"$error":"#DIV/0!"},{"$error":"#DIV/0!"},{"$error":"#DIV/0!"},{"$error":"#DIV/0!"},{"$error":"#DIV/0!"},{"$error":"#DIV/0!"}]
["Fluxo de Caixa Operacional",null,null,{"$f":"D60+D61","v":{"$error":"#DIV/0!"}},{"$f":"E60+E61","v":{"$error":"#DIV/0!"}},{"$error":"#DIV/0!"},{"$error":"#DIV/0!"},{"$error":"#DIV/0!"},{"$error":"#DIV/0!"},{"$error":"#DIV/0!"},{"$error":"#DIV/0!"},{"$error":"#DIV/0!"},{"$error":"#DIV/0!"},{"$error":"#DIV/0!"}]
[]
["Investimentos",null,{"$f":"C65+C66","v":{"$error":"#DIV/0!"}},{"$f":"D65+D66","v":0},{"$error":"#DIV/0!"},{"$error":"#DIV/0!"},{"$error":"#DIV/0!"},{"$error":"#DIV/0!"},{"$error":"#DIV/0!"},{"$error":"#DIV/0!"},{"$error":"#DIV/0!"},{"$error":"#DIV/0!"},{"$error":"#DIV/0!"}]
["Frota",null,{"$f":"'D. Capital'!C175","v":{"$error":"#DIV/0!"}},{"$f":"'D. Capital'!D175","v":0},{"$f":"'D. Capital'!E175","v":{"$error":"#DIV/0!"}},{"$f":"'D. Capital'!F175","v":{"$error":"#DIV/0!"}},{"$f":"'D. Capital'!G175","v":{"$error":"#DIV/0!"}},{"$f":"'D. Capital'!H175","v":{"$error":"#DIV/0!"}},{"$f":"'D. Capital'!I175","v":{"$error":"#DIV/0!"}},{"$f":"'D. Capital'!J175","v":{"$error":"#DIV/0!"}},{"$f":"'D. Capital'!K175","v":{"$error":"#DIV/0!"}},{"$f":"'D. Capital'!L175","v":{"$error":"#DIV/0!"}},{"$f":"'D. Capital'!M175","v":{"$error":"#DIV/0!"}}]
["Garagem e Sistemas Tecnológicos",null,{"$f":"'D. Capital'!C228","v":0},{"$f":"'D. Capital'!D228","v":0},{"$f":"'D. Capital'!E228","v":0},{"$f":"'D. Capital'!F228","v":0},{"$f":"'D. Capital'!G228","v":0},{"$f":"'D. Capital'!H228","v":0},{"$f":"'D. Capital'!I228","v":0},{"$f":"'D. Capital'!J228","v":0},{"$f":"'D. Capital'!K228","v":0},{"$f":"'D. Capital'!L228","v":0},{"$f":"'D. Capital'!M228","v":0}]
[]
["Venda de ativos",null,null,{"$f":"D69+D70","v":0},{"$f":"E69+E70","v":{"$error":"#DIV/0!"}},{"$error":"#DIV/0!"},{"$error":"#DIV/0!"},{"$error":"#DIV/0!"},{"$error":"#DIV/0!"},{"$error":"#DIV/0!"},{"$error":"#DIV/0!"},{"$error":"#DIV/0!"},{"$error":"#DIV/0!"},{"$error":"#DIV/0!"}]
["Frota",null,null,{"$f":"'D. Capital'!D180","v":0},{"$f":"'D. Capital'!E180","v":{"$error":"#DIV/0!"}},{"$f":"'D. Capital'!F180","v":{"$error":"#DIV/0!"}},{"$f":"'D. Capital'!G180","v":{"$error":"#DIV/0!"}},{"$f":"'D. Capital'!H180","v":{"$error":"#DIV/0!"}},{"$f":"'D. Capital'!I180","v":{"$error":"#DIV/0!"}},{"$f":"'D. Capital'!J180","v":{"$error":"#DIV/0!"}},{"$f":"'D. Capital'!K180","v":{"$error":"#DIV/0!"}},{"$f":"'D. Capital'!L180","v":{"$error":"#DIV/0!"}},{"$f":"'D. Capital'!M180","v":{"$error":"#DIV/0!"}},{"$f":"'D. Capital'!N180","v":{"$error":"#DIV/0!"}}]
["Garagem e Sistemas Tecnológicos",null,null,{"$f":"'D. Capital'!D248","v":0},{"$f":"'D. Capital'!E248","v":0},{"$f":"'D. Capital'!F248","v":0},{"$f":"'D. Capital'!G248","v":0},{"$f":"'D. Capital'!H248","v":0},{"$f":"'D. Capital'!I248","v":{"$error":"#DIV/0!"}},{"$f":"'D. Capital'!J248","v":0},{"$f":"'D. Capital'!K248","v":0},{"$f":"'D. Capital'!L248","v":0},{"$f":"'D. Capital'!M248","v":0},{"$f":"'D. Capital'!N248","v":{"$error":"#DIV/0!"}}]
[]
["Fluxo de caixa dos ativos",null,{"$f":"-C64+C68","v":{"$error":"#DIV/0!"}},{"$f":"-D64+D68","v":0},{"$error":"#DIV/0!"},{"$error":"#DIV/0!"},{"$error":"#DIV/0!"},{"$error":"#DIV/0!"},{"$error":"#DIV/0!"},{"$error":"#DIV/0!"},{"$error":"#DIV/0!"},{"$error":"#DIV/0!"},{"$error":"#DIV/0!"},{"$error":"#DIV/0!"}]
[]
["Fluxo de caixa livre",null,{"$f":"C62+C72","v":{"$error":"#DIV/0!"}},{"$error":"#DIV/0!"},{"$error":"#DIV/0!"},{"$error":"#DIV/0!"},{"$error":"#DIV/0!"},{"$error":"#DIV/0!"},{"$error":"#DIV/0!"},{"$error":"#DIV/0!"},{"$error":"#DIV/0!"},{"$error":"#DIV/0!"},{"$error":"#DIV/0!"},{"$error":"#DIV/0!"}]
[]
["Indicadores"]
[]
["Taxa de financiamento anual"]
["Taxa de desconto anual"]
["Taxa Interna de Retorno Modificada",{"$f":"MIRR(C74:N74,B78,B79)","v":{"$error":"#DIV/0!"}}]
["Taxa Interna de Retorno",{"$f":"IRR(C74:N74)","v":{"$error":"#VALUE!"}}]
["Valor Presente Líquido (milhões)",{"$f":"NPV(B79,C74:N74)","v":{"$error":"#DIV/0!"}}]

{"sheet":"F. Resumo dos custos","index":5,"n_rows":48,"n_cols":8,"rows_kept":48,"cut":false,"hidden":false,"merged":[[47,1,47,3],[45,1,45,3],[33,1,33,3],[35,1,35,3],[37,1,37,3],[39,1,39,3],[41,1,41,3],[43,1,43,3],[32,1,32,3],[21,1,21,3],[22,1,22,3],[23,1,23,3],[24,1,24,3],[25,1,25,3],[26,1,26,3],[27,1,27,3],[28,1,28,3],[29,1,29,3],[30,1,30,3],[31,1,31,3],[20,1,20,3],[7,0,7,3],[9,1,9,3],[10,1,10,3],[11,1,11,3],[12,1,12,3],[13,1,13,3],[14,1,14,3],[15,1,15,3],[16,1,16,3],[18,1,18,3],[19,1,19,3]]}
[{"$f":"'A. Identificação'!A2&\" - \"&'A. Identificação'!A3","v":"Município de Extrema (MG) - Prefeitura Municipal de Extrema"}]
[{"$f":"'A. Identificação'!A4","v":"Concessão do Sistema de Transporte Público Coletivo de Extrema - STPC-Extrema"}]
[{"$f":"\"Proponente: \"&'A. Identificação'!C9&\" - CNPJ: \"&'A. Identificação'!C11","v":"Proponente:  - CNPJ: "}]
[{"$f":"'A. Identificação'!$A$5","v":"Proposta Comercial"},null,"Apresentação:",{"$f":"'A. Identificação'!C19","v":"00:00:00"}]
[]
["7 - Resumo de custos"]
[]
["Item",null,null,null,"Custo mensal (R$)","Participação","Custo por quilômetro","Custo por veículo operacional"]
[]
["A","Custos variáveis",null,null,{"$f":"SUM(E11:E17)","v":{"$error":"#DIV/0!"}},{"$f":"E10/$E$44","v":{"$error":"#DIV/0!"}},{"$f":"SUM(G11:G17)","v":{"$error":"#DIV/0!"}},{"$f":"SUM(H11:H17)","v":{"$error":"#DIV/0!"}}]
["A.1","Óleo Diesel",null,null,{"$f":"'C. Mem_calculo'!D9","v":0},{"$error":"#DIV/0!"},{"$f":"E11/('B. Dados de entrada'!$D$63+'B. Dados de entrada'!$E$63)","v":0},{"$f":"E11/('B. Dados de entrada'!$D$57+'B. Dados de entrada'!$E$57)","v":0}]
["A.2","Lubrificantes",null,null,{"$f":"'C. Mem_calculo'!D10","v":0},{"$error":"#DIV/0!"},{"$f":"E12/('B. Dados de entrada'!$D$63+'B. Dados de entrada'!$E$63)","v":0},{"$f":"E12/('B. Dados de entrada'!$D$57+'B. Dados de entrada'!$E$57)","v":0}]
["A.3","ARLA 32",null,null,{"$f":"'C. Mem_calculo'!D11","v":0},{"$error":"#DIV/0!"},{"$f":"E13/('B. Dados de entrada'!$D$63+'B. Dados de entrada'!$E$63)","v":0},{"$f":"E13/('B. Dados de entrada'!$D$57+'B. Dados de entrada'!$E$57)","v":0}]
["A.4","Pneu novo",null,null,{"$f":"'C. Mem_calculo'!D12","v":{"$error":"#DIV/0!"}},{"$error":"#DIV/0!"},{"$f":"E14/('B. Dados de entrada'!$D$63+'B. Dados de entrada'!$E$63)","v":{"$error":"#DIV/0!"}},{"$f":"E14/('B. Dados de entrada'!$D$57+'B. Dados de entrada'!$E$57)","v":{"$error":"#DIV/0!"}}]
["A.5","Serviço de recapagem",null,null,{"$f":"'C. Mem_calculo'!D13","v":{"$error":"#DIV/0!"}},{"$error":"#DIV/0!"},{"$f":"E15/('B. Dados de entrada'!$D$63+'B. Dados de entrada'!$E$63)","v":{"$error":"#DIV/0!"}},{"$f":"E15/('B. Dados de entrada'!$D$57+'B. Dados de entrada'!$E$57)","v":{"$error":"#DIV/0!"}}]
["A.6","Peças e acessórios",null,null,{"$f":"'C. Mem_calculo'!D14","v":0},{"$error":"#DIV/0!"},{"$f":"E16/('B. Dados de entrada'!$D$63+'B. Dados de entrada'!$E$63)","v":0},{"$f":"E16/('B. Dados de entrada'!$D$57+'B. Dados de entrada'!$E$57)","v":0}]
["A.7","Despesas ambientais",null,null,{"$f":"'C. Mem_calculo'!D15","v":0},{"$error":"#DIV/0!"},{"$f":"E17/('B. Dados de entrada'!$D$63+'B. Dados de entrada'!$E$63)","v":0},{"$f":"E17/('B. Dados de entrada'!$D$57+'B. Dados de entrada'!$E$57)","v":0}]
[]
["B","Custos fixos",null,null,{"$f":"E20+E27","v":0},{"$f":"E19/$E$44","v":{"$error":"#DIV/0!"}},{"$f":"G20+G27","v":0},{"$f":"H20+H27","v":0}]
["B.1","Custo com mão de obra",null,null,{"$f":"E21+E26","v":0},{"$error":"#DIV/0!"},{"$f":"G21+G26","v":0},{"$f":"H21+H26","v":0}]
["B.1.1","Pagamento de salários e encagos sociais",null,null,{"$f":"SUM(E22:E25)","v":0},{"$error":"#DIV/0!"},{"$f":"SUM(G22:G25)","v":0},{"$f":"SUM(H22:H25)","v":0}]
["B.1.1.1","Motoristas",null,null,{"$f":"'C. Mem_calculo'!D93","v":0},{"$error":"#DIV/0!"},{"$f":"E22/('B. Dados de entrada'!$D$63+'B. Dados de entrada'!$E$63)","v":0},{"$f":"E22/('B. Dados de entrada'!$D$57+'B. Dados de entrada'!$E$57)","v":0}]
["B.1.1.2","Pessoal do tráfego",null,null,{"$f":"'C. Mem_calculo'!D94","v":0},{"$error":"#DIV/0!"},{"$f":"E23/('B. Dados de entrada'!$D$63+'B. Dados de entrada'!$E$63)","v":0},{"$f":"E23/('B. Dados de entrada'!$D$57+'B. Dados de entrada'!$E$57)","v":0}]
["B.1.1.3","Pessoal de manutenção",null,null,{"$f":"'C. Mem_calculo'!D95","v":0},{"$error":"#DIV/0!"},{"$f":"E24/('B. Dados de entrada'!$D$63+'B. Dados de entrada'!$E$63)","v":0},{"$f":"E24/('B. Dados de entrada'!$D$57+'B. Dados de entrada'!$E$57)","v":0}]
["B.1.1.4","Pessoal administrativo",null,null,{"$f":"'C. Mem_calculo'!D96","v":0},{"$error":"#DIV/0!"},{"$f":"E25/('B. Dados de entrada'!$D$63+'B. Dados de entrada'!$E$63)","v":0},{"$f":"E25/('B. Dados de entrada'!$D$57+'B. Dados de entrada'!$E$57)","v":0}]
["B.1.2","Benefícios",null,null,{"$f":"'C. Mem_calculo'!D97","v":0},{"$error":"#DIV/0!"},{"$f":"E26/('B. Dados de entrada'!$D$63+'B. Dados de entrada'!$E$63)","v":0},{"$f":"E26/('B. Dados de entrada'!$D$57+'B. Dados de entrada'!$E$57)","v":0}]
["B.2","Custos administrativos",null,null,{"$f":"SUM(E28:E34)","v":0},{"$error":"#DIV/0!"},{"$f":"SUM(G28:G34)","v":0},{"$f":"SUM(H28:H34)","v":0}]
["B.2.1","Pró-labore",null,null,{"$f":"'C. Mem_calculo'!D100","v":0},{"$error":"#DIV/0!"},{"$f":"E28/('B. Dados de entrada'!$D$63+'B. Dados de entrada'!$E$63)","v":0},{"$f":"E28/('B. Dados de entrada'!$D$57+'B. Dados de entrada'!$E$57)","v":0}]
["B.2.2","Desp. adm. diversas",null,null,{"$f":"'C. Mem_calculo'!D101","v":0},{"$error":"#DIV/0!"},{"$f":"E29/('B. Dados de entrada'!$D$63+'B. Dados de entrada'!$E$63)","v":0},{"$f":"E29/('B. Dados de entrada'!$D$57+'B. Dados de entrada'!$E$57)","v":0}]
["B.2.3","Comercialização",null,null,{"$f":"'C. Mem_calculo'!D102","v":0},{"$error":"#DIV/0!"},{"$f":"E30/('B. Dados de entrada'!$D$63+'B. Dados de entrada'!$E$63)","v":0},{"$f":"E30/('B. Dados de entrada'!$D$57+'B. Dados de entrada'!$E$57)","v":0}]
["B.2.4","Seguro de responsabilidade civil",null,null,{"$f":"'C. Mem_calculo'!D103","v":0},{"$error":"#DIV/0!"},{"$f":"E31/('B. Dados de entrada'!$D$63+'B. Dados de entrada'!$E$63)","v":0},{"$f":"E31/('B. Dados de entrada'!$D$57+'B. Dados de entrada'!$E$57)","v":0}]
["B.2.5","Licenciamento",null,null,{"$f":"'C. Mem_calculo'!D104","v":0},{"$error":"#DIV/0!"},{"$f":"E32/('B. Dados de entrada'!$D$63+'B. Dados de entrada'!$E$63)","v":0},{"$f":"E32/('B. Dados de entrada'!$D$57+'B. Dados de entrada'!$E$57)","v":0}]
["B.2.6","Sistemas tecnológicos",null,null,{"$f":"'C. Mem_calculo'!D105","v":0},{"$error":"#DIV/0!"},{"$f":"E33/('B. Dados de entrada'!$D$63+'B. Dados de entrada'!$E$63)","v":0},{"$f":"E33/('B. Dados de entrada'!$D$57+'B. Dados de entrada'!$E$57)","v":0}]
["B.2.7","Aluguel de garagem",null,null,{"$f":"'C. Mem_calculo'!D106","v":0},{"$error":"#DIV/0!"},{"$f":"E34/('B. Dados de entrada'!$D$63+'B. Dados de entrada'!$E$63)","v":0},{"$f":"E34/('B. Dados de entrada'!$D$57+'B. Dados de entrada'!$E$57)","v":0}]
[]
["C","Depreciação",null,null,{"$f":"'D. Capital'!C261","v":{"$error":"#DIV/0!"}},{"$f":"E36/$E$44","v":{"$error":"#DIV/0!"}},{"$f":"E36/('B. Dados de entrada'!$D$63+'B. Dados de entrada'!$E$63)","v":{"$error":"#DIV/0!"}},{"$f":"E36/('B. Dados de entrada'!$D$57+'B. Dados de entrada'!$E$57)","v":{"$error":"#DIV/0!"}}]
[]
["D","RPS",null,null,{"$f":"'E. Fluxo de caixa'!B53*(E10+E19+E36)","v":{"$error":"#DIV/0!"}},{"$f":"E38/$E$44","v":{"$error":"#DIV/0!"}},{"$f":"E38/('B. Dados de entrada'!$D$63+'B. Dados de entrada'!$E$63)","v":{"$error":"#DIV/0!"}},{"$f":"E38/('B. Dados de entrada'!$D$57+'B. Dados de entrada'!$E$57)","v":{"$error":"#DIV/0!"}}]
[]
["E","Remuneração",null,null,{"$f":"'E. Fluxo de caixa'!$B$14*SUM('E. Fluxo de caixa'!$D$16:$M$16)/12/10-E10-E19-E36-E38-E42","v":{"$error":"#DIV/0!"}},{"$f":"E40/$E$44","v":{"$error":"#DIV/0!"}},{"$f":"E40/('B. Dados de entrada'!$D$63+'B. Dados de entrada'!$E$63)","v":{"$error":"#DIV/0!"}},{"$f":"E40/('B. Dados de entrada'!$D$57+'B. Dados de entrada'!$E$57)","v":{"$error":"#DIV/0!"}}]
[]
["F","Impostos",null,null,{"$f":"'E. Fluxo de caixa'!B14*SUM('E. Fluxo de caixa'!D16:M16)/10/12*'B. Dados de entrada'!C123","v":0},{"$f":"E42/$E$44","v":{"$error":"#DIV/0!"}},{"$f":"E42/('B. Dados de entrada'!$D$63+'B. Dados de entrada'!$E$63)","v":0},{"$f":"E42/('B. Dados de entrada'!$D$57+'B. Dados de entrada'!$E$57)","v":0}]
[]
["G","Total",null,null,{"$f":"E40+E38+E36+E19+E10+E42","v":{"$error":"#DIV/0!"}},null,{"$f":"E44/('B. Dados de entrada'!$D$63+'B. Dados de entrada'!$E$63)","v":{"$error":"#DIV/0!"}},{"$f":"H40+H38+H36+H19+H10+H42","v":{"$error":"#DIV/0!"}}]
[]
["H","Passageiros equivalentes",null,null,{"$f":"'E. Fluxo de caixa'!D16/12","v":121614.5}]
[]
["I","Tarifa ",null,null,{"$f":"E44/E46","v":{"$error":"#DIV/0!"}}]

{"sheet":"Aux2","index":6,"n_rows":16,"n_cols":5,"rows_kept":16,"cut":false,"hidden":true,"merged":[]}
["Apoio soma dos dígitos",null,null,null,"Retorna"]
[]
["Vida útil","Soma"]
[3,{"$f":"3+2+1","v":6}]
[4,{"$f":"+B4+A5","v":10}]
[5,15]
[6,21]
[7,28]
[8,36]
[9,45]
[10,55]
[11,66]
[12,78]
[13,91]
[14,105]
[15,120]